BEGIN:VCALENDAR
VERSION:2.0
PRODID:-//Polski Ośrodek Społeczno-Kulturalny - ECPv6.15.20//NONSGML v1.0//EN
CALSCALE:GREGORIAN
METHOD:PUBLISH
X-ORIGINAL-URL:https://posk.org/en
X-WR-CALDESC:Events for Polski Ośrodek Społeczno-Kulturalny
REFRESH-INTERVAL;VALUE=DURATION:PT1H
X-Robots-Tag:noindex
X-PUBLISHED-TTL:PT1H
BEGIN:VTIMEZONE
TZID:UTC
BEGIN:STANDARD
TZOFFSETFROM:+0000
TZOFFSETTO:+0000
TZNAME:UTC
DTSTART:20230101T000000
END:STANDARD
END:VTIMEZONE
BEGIN:VEVENT
DTSTART;TZID=UTC:20241211T100000
DTEND;TZID=UTC:20250126T210000
DTSTAMP:20260420T144719
CREATED:20241207T223017Z
LAST-MODIFIED:20241207T223017Z
UID:7808-1733911200-1737925200@posk.org
SUMMARY:11.12| POSK Gallery APA exhibition: Untitled
DESCRIPTION:
URL:https://posk.org/en/event/11-12-posk-gallery-apa-exhibition-untitled/
LOCATION:Galeria POSK\, 238-246 King Street\, London\, Hammersmith\, W6 0RF\, United Kingdom
CATEGORIES:Art & Exhibitions
ATTACH;FMTTYPE=application/pdf:https://posk.org/wp-content/uploads/2024/12/Untitled-APA-Poster-1.pdf
END:VEVENT
BEGIN:VEVENT
DTSTART;TZID=UTC:20241221T200000
DTEND;TZID=UTC:20241221T223000
DTSTAMP:20260420T144719
CREATED:20241206T123917Z
LAST-MODIFIED:20241206T123917Z
UID:7783-1734811200-1734820200@posk.org
SUMMARY:21.12| Jazz concert TORI FREESTONE & ALCYONA MICK DUO
DESCRIPTION:TORI FREESTONE & ALCYONA MICK DUO\n\n\nTori & Alcyona will be performing material from their latest album ‘Make One Little Room an Everywhere’ – “An album of the year” – Jazzwise\n\n\n21 December\nTickets and more info: jazzcafeposk.org\n\n\nSaxophonist/flautist Tori Freestone and pianist Alcyona Mick are currently creating a stir on the UK jazz scene! The premiere of Tori’s composition ‘Birds of Paradise’ at the Royal Albert Hall Elgar Room won the Ivor’s Award for Jazz Composition\, while Alcyona was shortlisted for a Parliamentary Jazz Instrumentalist of the Year Award. Formed in 2015\, this characterful duo has a spontaneous\, interactive approach drawing from a vast range of musical influences inhabiting but also going boldly beyond the jazz genre\, including English folk\, Brazilian music\, classical music\, free improvisation\, Monk and more. \nTori and Alcyona will be performing material from their latest album ‘Make One Little Room an Everywhere’ released in 2023. \n “An album of the year” – Jazzwise
URL:https://posk.org/en/event/21-12-jazz-concert-tori-freestone-alcyona-mick-duo/
LOCATION:Jazz Cafe POSK\, 238-246 King Street\, London\, W6 0RF\, United Kingdom
CATEGORIES:Concert,Jazz Café
ATTACH;FMTTYPE=image/jpeg:https://posk.org/wp-content/uploads/2024/11/465894079_1158610842930860_668639503273435282_n.jpg
END:VEVENT
END:VCALENDAR