BEGIN:VCALENDAR
VERSION:2.0
PRODID:-//Polski Ośrodek Społeczno-Kulturalny - ECPv6.15.20//NONSGML v1.0//EN
CALSCALE:GREGORIAN
METHOD:PUBLISH
X-ORIGINAL-URL:https://posk.org/en
X-WR-CALDESC:Events for Polski Ośrodek Społeczno-Kulturalny
REFRESH-INTERVAL;VALUE=DURATION:PT1H
X-Robots-Tag:noindex
X-PUBLISHED-TTL:PT1H
BEGIN:VTIMEZONE
TZID:UTC
BEGIN:STANDARD
TZOFFSETFROM:+0000
TZOFFSETTO:+0000
TZNAME:UTC
DTSTART:20240101T000000
END:STANDARD
END:VTIMEZONE
BEGIN:VEVENT
DTSTART;TZID=UTC:20250201T090000
DTEND;TZID=UTC:20250228T213000
DTSTAMP:20260420T164258
CREATED:20250108T133537Z
LAST-MODIFIED:20250108T133537Z
UID:8072-1738400400-1740778200@posk.org
SUMMARY:01.02| Exhibition: Feliks Fabian from the collection of Lili Stern-Pohlmann\, MBE
DESCRIPTION:We are very happy to invite you to the next exhibition organized by the Polish Library POSK in London\, where the works of Felix Fabian will be presented. \nWe invite you to the opening of the exhibition “From the collection of Lili Stern-Pohlmann\, MBE/ From the collection of Lili Steen-Pohlmann MBE” on February 1 at 4:00 p.m. at the POSK Gallery.  \nFeliks Fabian was a Polish realist painter who died in London in 1994. A large part of his work consists of paintings depicting memories\, everyday life in an Eastern European Jewish town. He became famous as a seasoned portraitist\, immortalizing film and theater stars in his paintings. He studied painting under the supervision of Professor Sterling in Vienna\, and then Professor Maccioco in Rome. After the outbreak of World War II\, he left for Lviv\, where he found employment as a graphic artist in the Feliks Konarski theater. He performed parodying Charlie Chaplin\, was arrested by the NKVD in 1940 and exiled deep into the USSR. Freed under an amnesty in 1941\, he joined the Polish Army in the East\, which was being organized\, and set off through the Middle East. In the meantime\, he performed in Czołówka Teatralna and Parada Polska. After the end of the war\, he decided to remain in exile\, initially living in Great Britain\, from where he soon left for Argentina. From 1948\, for three years\, he was the artistic director of the film industry-based “Studio Parana” in Buenos Aires. In 1951\, he founded his own painting studio\, and in the mid-1960s\, he decided to move to London\, where he lived until his death.
URL:https://posk.org/en/event/01-02-exhibition-feliks-fabian-from-the-collection-of-lili-stern-pohlmann-mbe/
LOCATION:Galeria POSK\, 238-246 King Street\, London\, Hammersmith\, W6 0RF\, United Kingdom
CATEGORIES:Art & Exhibitions
ATTACH;FMTTYPE=image/jpeg:https://posk.org/wp-content/uploads/2025/01/BP_FELIX_FABIAN_POSTER_FACEBOOK-scaled.jpg
END:VEVENT
BEGIN:VEVENT
DTSTART;TZID=UTC:20250204T110000
DTEND;TZID=UTC:20250227T190000
DTSTAMP:20260420T164258
CREATED:20250128T222720Z
LAST-MODIFIED:20250128T222720Z
UID:8260-1738666800-1740682800@posk.org
SUMMARY:04.02| Exhibition at Pilsudski Institute
DESCRIPTION:We are open every Tuesday and Thursday from 11 am to 7 pm\, and first Saturday of the month from 11 am to 3 pm.
URL:https://posk.org/en/event/04-02-exhibition-at-pilsudski-institute/
LOCATION:Instytut Piłsudskiego w Londynie
CATEGORIES:Meeting
ATTACH;FMTTYPE=image/jpeg:https://posk.org/wp-content/uploads/2025/01/Luty-2025-scaled.jpg
END:VEVENT
BEGIN:VEVENT
DTSTART;TZID=UTC:20250217T090000
DTEND;TZID=UTC:20250221T130000
DTSTAMP:20260420T164258
CREATED:20250211T181649Z
LAST-MODIFIED:20250211T181649Z
UID:8515-1739782800-1740142800@posk.org
SUMMARY:17.02| Half-Term with Polish!
DESCRIPTION:The Polish School of Ravenscourt Park cordially invites you to “Half-Term with Polish”. \nFrom 17.02 – 21.02 2025 from\n9.00 a.m. to 1.00 p.m.\nMore information and place reservation: info@polskaszkola.uk.
URL:https://posk.org/en/event/17-02-half-term-with-polish/
LOCATION:POSK\, 238-246 King Street\, London\, London\, W6 0RF\, United Kingdom
CATEGORIES:Meeting,Workshop
ATTACH;FMTTYPE=image/jpeg:https://posk.org/wp-content/uploads/2025/02/476850049_1229996042459006_3992784104847038956_n.jpg
END:VEVENT
BEGIN:VEVENT
DTSTART;TZID=UTC:20250221T183000
DTEND;TZID=UTC:20250221T200000
DTSTAMP:20260420T164258
CREATED:20250207T190334Z
LAST-MODIFIED:20250209T165727Z
UID:8404-1740162600-1740168000@posk.org
SUMMARY:21.02| Meeting with the historian\, prof. Andrzej Nowak
DESCRIPTION:Polish Library POSK invites you to a meeting with prof. dr. hab. Andrzej Nowak: ‘Year 2025: Where is Poland? Questions about geopolitics and the state of the nation”.\n\nThe event will take place on February 21 at 6:30 pm at the Raspberry Hall (Sala Malinowa) POSK.\nWe cordially invite you!\n\n\n\nAndrzej Nowak was born in 1960 in Krakow. An outstanding historian\, sovietologist and expert on Polish-Russian relations. He was awarded a postdoctoral degree in 2002 and the title of full professor in 2011. He is head of the Department of Eastern European History and the Study of Nineteenth and Twentieth Century Empires at the Institute of History of the Polish Academy of Sciences and the Department of Eastern European History at the Jagiellonian University. He specialises in the history of Russian political thought and Polish-Russian relations in the 19th and 20th centuries. He has shared his vast knowledge on these subjects in lectures at\, inter alia\, American universities (Harvard\, Columbia\, Rice)\, English universities (Cambridge\, London University)\, and\, among others\, Masaryk University in Brno\, Tokyo University\, Warsaw University\, Collegium Civitas and Wyższa Szkoła Biznesu in Nowy Sącz. He has participated in more than a hundred scientific conferences and congresses in Sapporo\, Kazan\, Tver\, Moscow\, Paris\, London\, Cambridge\, Stockholm\, Venice\, New York\, Budapest\, Rapperswil and Brno\, among others. In 2015\, he was appointed by President Andrzej Duda as a member of the National Development Council. \n 
URL:https://posk.org/en/event/21-02-meeting-with-the-historian-prof-andrzej-nowak/
LOCATION:Sala Malinowa
CATEGORIES:Meeting
ATTACH;FMTTYPE=image/jpeg:https://posk.org/wp-content/uploads/2025/02/476271435_1226603562798254_3164990833311763856_n.jpg
END:VEVENT
BEGIN:VEVENT
DTSTART;TZID=UTC:20250221T200000
DTEND;TZID=UTC:20250221T223000
DTSTAMP:20260420T164258
CREATED:20250127T104259Z
LAST-MODIFIED:20250127T104259Z
UID:8230-1740168000-1740177000@posk.org
SUMMARY:21.02| Jazz concert: CHRIS DEAN AND HIS QUARTET: SLIDING THROUGH JAZZ!
DESCRIPTION:CHRIS DEAN AND HIS QUARTET: SLIDING THROUGH JAZZ!An Unforgettable Evening of Jazz and Classics! Join us for a night where cool standards meet the timeless gems of the American Songbook. 21 February Tickets and more information: jazzcafeposk.org
URL:https://posk.org/en/event/21-02-jazz-concert-chris-dean-and-his-quartet-sliding-through-jazz/
LOCATION:Jazz Cafe POSK\, 238-246 King Street\, London\, W6 0RF\, United Kingdom
CATEGORIES:Concert,Jazz Café
ATTACH;FMTTYPE=image/jpeg:https://posk.org/wp-content/uploads/2025/01/475210171_1216977020427575_7787682036491250936_n.jpg
END:VEVENT
END:VCALENDAR