BEGIN:VCALENDAR
VERSION:2.0
PRODID:-//Polski Ośrodek Społeczno-Kulturalny - ECPv6.15.20//NONSGML v1.0//EN
CALSCALE:GREGORIAN
METHOD:PUBLISH
X-WR-CALNAME:Polski Ośrodek Społeczno-Kulturalny
X-ORIGINAL-URL:https://posk.org/en
X-WR-CALDESC:Events for Polski Ośrodek Społeczno-Kulturalny
REFRESH-INTERVAL;VALUE=DURATION:PT1H
X-Robots-Tag:noindex
X-PUBLISHED-TTL:PT1H
BEGIN:VTIMEZONE
TZID:Europe/London
BEGIN:DAYLIGHT
TZOFFSETFROM:+0000
TZOFFSETTO:+0100
TZNAME:BST
DTSTART:20240331T010000
END:DAYLIGHT
BEGIN:STANDARD
TZOFFSETFROM:+0100
TZOFFSETTO:+0000
TZNAME:GMT
DTSTART:20241027T010000
END:STANDARD
BEGIN:DAYLIGHT
TZOFFSETFROM:+0000
TZOFFSETTO:+0100
TZNAME:BST
DTSTART:20250330T010000
END:DAYLIGHT
BEGIN:STANDARD
TZOFFSETFROM:+0100
TZOFFSETTO:+0000
TZNAME:GMT
DTSTART:20251026T010000
END:STANDARD
BEGIN:DAYLIGHT
TZOFFSETFROM:+0000
TZOFFSETTO:+0100
TZNAME:BST
DTSTART:20260329T010000
END:DAYLIGHT
BEGIN:STANDARD
TZOFFSETFROM:+0100
TZOFFSETTO:+0000
TZNAME:GMT
DTSTART:20261025T010000
END:STANDARD
END:VTIMEZONE
BEGIN:VEVENT
DTSTART;TZID=Europe/London:20251023T100000
DTEND;TZID=Europe/London:20251222T190000
DTSTAMP:20260424T160735
CREATED:20251023T085418Z
LAST-MODIFIED:20251023T085418Z
UID:10489-1761213600-1766430000@posk.org
SUMMARY:23.10| Exhibition: 1945. The End of the War?
DESCRIPTION:The Polish Library POSK in London invites to the exhibition about the end of the war in 1945. \n  \nEntry free.
URL:https://posk.org/en/event/23-10-exhibition-1945-the-end-of-the-war/
LOCATION:Sala Orłów\, 238-246 King Street\, London\, W6 0RF\, United Kingdom
CATEGORIES:Art & Exhibitions
ATTACH;FMTTYPE=image/jpeg:https://posk.org/wp-content/uploads/2025/10/BP_Koniec_Wojny_1945_DRAFT-scaled.jpg
END:VEVENT
BEGIN:VEVENT
DTSTART;TZID=Europe/London:20251129T100000
DTEND;TZID=Europe/London:20251212T210000
DTSTAMP:20260424T160735
CREATED:20251115T161504Z
LAST-MODIFIED:20251115T161504Z
UID:10652-1764410400-1765573200@posk.org
SUMMARY:29.11| Golden Connections. New exhibition at POSK Gallery!
DESCRIPTION:
URL:https://posk.org/en/event/29-11-golden-connections-new-exhibition-at-posk-gallery/
LOCATION:Galeria POSK\, 238-246 King Street\, London\, Hammersmith\, W6 0RF\, United Kingdom
CATEGORIES:Art & Exhibitions
ATTACH;FMTTYPE=image/png:https://posk.org/wp-content/uploads/2025/11/IMG_0285.png
END:VEVENT
BEGIN:VEVENT
DTSTART;TZID=Europe/London:20251202T110000
DTEND;TZID=Europe/London:20251230T190000
DTSTAMP:20260424T160735
CREATED:20251128T093154Z
LAST-MODIFIED:20251128T093154Z
UID:10768-1764673200-1767121200@posk.org
SUMMARY:02.12| Eksponat miesiąca w Instytucie Piłsudkiego
DESCRIPTION:Prezentowane dzieła pochodzą ze zbiorów archiwalnych Instytutu Piłsudskiego i stanowią eksponat miesiąca. To doskonała okazja\, aby zapoznać się z unikatową twórczością oraz bogactwem naszej kolekcji historycznej. \nZapraszamy do Instytutu w każdy wtorek i czwartek od 11:00 do 19:00 oraz każdą pierwszą sobotę miesiąca od 11:00 do 15:00.
URL:https://posk.org/en/event/02-12-eksponat-miesiaca-w-instytucie-pilsudkiego/
LOCATION:Instytut Piłsudskiego w Londynie
CATEGORIES:Meeting
ATTACH;FMTTYPE=image/jpeg:https://posk.org/wp-content/uploads/2025/11/Grudniowe-eksponaty-scaled.jpg
END:VEVENT
BEGIN:VEVENT
DTSTART;TZID=Europe/London:20251206T200000
DTEND;TZID=Europe/London:20251206T223000
DTSTAMP:20260424T160735
CREATED:20251110T112253Z
LAST-MODIFIED:20251110T112253Z
UID:10607-1765051200-1765060200@posk.org
SUMMARY:06.12| Jazz concert: Jazz Christmas with Marta Radwan\, Anita Łazińska\, Jakub Klimiuk and Freddie Benedict
DESCRIPTION:Beat the winter blues with a heartwarming evening of festive jazz!\nJoin us at Jazz Café POSK for a magical night of international carols and winter songs\, all reimagined with stylish jazz arrangements.\nJazz Christmas returns with a fresh twist – this time bringing beloved Christmas favourites from around the globe. From swinging standards to soulful serenades\, enjoy a festive blend of songs in English\, Polish\, Spanish\, and more.\nLet the talented lineup of Marta Radwan\, Anita Łazińska\, Jakub Klimiuk and Freddie Benedict transport you on a jazzy holiday journey that’s sure to warm your heart and lift your spirits.
URL:https://posk.org/en/event/06-12-jazz-concert-jazz-christmas-with-marta-radwan-anita-lazinska-jakub-klimiuk-and-freddie-benedict/
LOCATION:Jazz Cafe POSK\, 238-246 King Street\, London\, W6 0RF\, United Kingdom
CATEGORIES:Concert,Jazz Café
ATTACH;FMTTYPE=image/jpeg:https://posk.org/wp-content/uploads/2025/11/579252352_1486241130167828_4724539070984651062_n.jpg
END:VEVENT
END:VCALENDAR