BEGIN:VCALENDAR
VERSION:2.0
PRODID:-//Polski Ośrodek Społeczno-Kulturalny - ECPv6.15.20//NONSGML v1.0//EN
CALSCALE:GREGORIAN
METHOD:PUBLISH
X-ORIGINAL-URL:https://posk.org/en
X-WR-CALDESC:Events for Polski Ośrodek Społeczno-Kulturalny
REFRESH-INTERVAL;VALUE=DURATION:PT1H
X-Robots-Tag:noindex
X-PUBLISHED-TTL:PT1H
BEGIN:VTIMEZONE
TZID:Europe/London
BEGIN:DAYLIGHT
TZOFFSETFROM:+0000
TZOFFSETTO:+0100
TZNAME:BST
DTSTART:20240331T010000
END:DAYLIGHT
BEGIN:STANDARD
TZOFFSETFROM:+0100
TZOFFSETTO:+0000
TZNAME:GMT
DTSTART:20241027T010000
END:STANDARD
BEGIN:DAYLIGHT
TZOFFSETFROM:+0000
TZOFFSETTO:+0100
TZNAME:BST
DTSTART:20250330T010000
END:DAYLIGHT
BEGIN:STANDARD
TZOFFSETFROM:+0100
TZOFFSETTO:+0000
TZNAME:GMT
DTSTART:20251026T010000
END:STANDARD
BEGIN:DAYLIGHT
TZOFFSETFROM:+0000
TZOFFSETTO:+0100
TZNAME:BST
DTSTART:20260329T010000
END:DAYLIGHT
BEGIN:STANDARD
TZOFFSETFROM:+0100
TZOFFSETTO:+0000
TZNAME:GMT
DTSTART:20261025T010000
END:STANDARD
BEGIN:DAYLIGHT
TZOFFSETFROM:+0000
TZOFFSETTO:+0100
TZNAME:BST
DTSTART:20270328T010000
END:DAYLIGHT
BEGIN:STANDARD
TZOFFSETFROM:+0100
TZOFFSETTO:+0000
TZNAME:GMT
DTSTART:20271031T010000
END:STANDARD
END:VTIMEZONE
BEGIN:VEVENT
DTSTART;TZID=Europe/London:20251214T100000
DTEND;TZID=Europe/London:20260116T200000
DTSTAMP:20260420T163126
CREATED:20251119T131833Z
LAST-MODIFIED:20251119T131833Z
UID:10692-1765706400-1768593600@posk.org
SUMMARY:14.12| Winter exhibition at POSK Gallery
DESCRIPTION:Winter exhibition. \nPrivate view: 14. 12.2025\, 5 pm-8pm. \nFree entry!
URL:https://posk.org/en/event/14-12-winter-exhibition-at-posk-gallery/
LOCATION:Galeria POSK\, 238-246 King Street\, London\, Hammersmith\, W6 0RF\, United Kingdom
CATEGORIES:Art & Exhibitions
ATTACH;FMTTYPE=image/jpeg:https://posk.org/wp-content/uploads/2025/11/586327490_1495240399267901_8854832443868650446_n.jpg
END:VEVENT
BEGIN:VEVENT
DTSTART;TZID=Europe/London:20251231T190000
DTEND;TZID=Europe/London:20260101T020000
DTSTAMP:20260420T163126
CREATED:20251120T120408Z
LAST-MODIFIED:20251120T120408Z
UID:10707-1767207600-1767232800@posk.org
SUMMARY:31.12| New Year's Eve in "Łowiczanka" Restaurant!
DESCRIPTION:More info and tickets\, tel:  07494 143 047.
URL:https://posk.org/en/event/31-12-new-years-eve-in-lowiczanka-restaurant/
LOCATION:Restauracja “Łowiczanka”
CATEGORIES:Meeting
ATTACH;FMTTYPE=image/jpeg:https://posk.org/wp-content/uploads/2025/11/585368919_1496098075848800_1229228528816401005_n.jpg
END:VEVENT
BEGIN:VEVENT
DTSTART;TZID=Europe/London:20251231T193000
DTEND;TZID=Europe/London:20260101T020000
DTSTAMP:20260420T163126
CREATED:20251106T132346Z
LAST-MODIFIED:20251106T132516Z
UID:10589-1767209400-1767232800@posk.org
SUMMARY:31.12| New Year's Eve Ball in the POSK Theatre Hall
DESCRIPTION:We cordially invite you to the New Year’s Eve Ball in the POSK Theatre Hall. Enjoy live music performed by the band Rewers. \n31 December\n7.30 p.m. – 2 a.m.\n£100\nFor more information\, please call 07796680297 or email iwonapi@yahoo.co.uk \nEvening dress is required.
URL:https://posk.org/en/event/31-12-bal-sylwestrowy-w-sali-teatralnej-posk/
LOCATION:Teatr POSK\, 238-246 King Street\, London\, W6 0RF\, United Kingdom
CATEGORIES:Meeting
ATTACH;FMTTYPE=image/jpeg:https://posk.org/wp-content/uploads/2025/10/572880605_1473505944774680_6213136577002280050_n.jpg
END:VEVENT
END:VCALENDAR