BEGIN:VCALENDAR
VERSION:2.0
PRODID:-//Polski Ośrodek Społeczno-Kulturalny - ECPv6.15.20//NONSGML v1.0//EN
CALSCALE:GREGORIAN
METHOD:PUBLISH
X-WR-CALNAME:Polski Ośrodek Społeczno-Kulturalny
X-ORIGINAL-URL:https://posk.org/en
X-WR-CALDESC:Events for Polski Ośrodek Społeczno-Kulturalny
REFRESH-INTERVAL;VALUE=DURATION:PT1H
X-Robots-Tag:noindex
X-PUBLISHED-TTL:PT1H
BEGIN:VTIMEZONE
TZID:Europe/London
BEGIN:DAYLIGHT
TZOFFSETFROM:+0000
TZOFFSETTO:+0100
TZNAME:BST
DTSTART:20250330T010000
END:DAYLIGHT
BEGIN:STANDARD
TZOFFSETFROM:+0100
TZOFFSETTO:+0000
TZNAME:GMT
DTSTART:20251026T010000
END:STANDARD
BEGIN:DAYLIGHT
TZOFFSETFROM:+0000
TZOFFSETTO:+0100
TZNAME:BST
DTSTART:20260329T010000
END:DAYLIGHT
BEGIN:STANDARD
TZOFFSETFROM:+0100
TZOFFSETTO:+0000
TZNAME:GMT
DTSTART:20261025T010000
END:STANDARD
BEGIN:DAYLIGHT
TZOFFSETFROM:+0000
TZOFFSETTO:+0100
TZNAME:BST
DTSTART:20270328T010000
END:DAYLIGHT
BEGIN:STANDARD
TZOFFSETFROM:+0100
TZOFFSETTO:+0000
TZNAME:GMT
DTSTART:20271031T010000
END:STANDARD
END:VTIMEZONE
BEGIN:VEVENT
DTSTART;TZID=Europe/London:20260424T200000
DTEND;TZID=Europe/London:20260424T223000
DTSTAMP:20260424T104218
CREATED:20260324T093628Z
LAST-MODIFIED:20260324T093628Z
UID:11610-1777060800-1777069800@posk.org
SUMMARY:24.04| Sylvie Noble and Jazz Café POSK present: Next Generation Jazz!
DESCRIPTION:Sylvie Noble and Jazz Café POSK present: Next Generation Jazz! \nTonight: The Music of Betty Carter! \nKicking off her “Next Generation Jazz” series at Jazz Café POSK\, Sylvie Noble brings a band of London’s finest young jazz musicians to play the fiercely swinging music of jazz vocal titan\, Betty Carter. \nSylvie Noble – voice \nOlivia Cuttill – trumpet \nThomas Sladden – piano \nBen Boardman – bass \nFinn Genockey – drums \nBased in London\, vocalist and composer Sylvie Noble pulls from eclectic influences across the musical spectrum\, combining jazz and folk to create an entirely unique sound. Her debut album ‘New Eve’\, a voice and bass duo collaboration with 2024 BBC Young Jazz Musician winner Ursula Harrison\, is due for release in spring 2026. A finalist of the 2025 Tina May Young Jazz Musician competition\, she combines dynamic and exploratory improvisation with evocative and soulful melodies\, pushing the boundaries of genre.  \nTickets
URL:https://posk.org/en/event/24-04-sylvie-noble-and-jazz-cafe-posk-present-next-generation-jazz/
LOCATION:Jazz Cafe POSK\, 238-246 King Street\, London\, W6 0RF\, United Kingdom
CATEGORIES:Concert,Jazz Café
ATTACH;FMTTYPE=image/jpeg:https://posk.org/wp-content/uploads/2026/03/658413680_1608416761283597_4736646347283924151_n.jpg
END:VEVENT
END:VCALENDAR