BEGIN:VCALENDAR
VERSION:2.0
PRODID:-//Polski Ośrodek Społeczno-Kulturalny - ECPv6.15.20//NONSGML v1.0//EN
CALSCALE:GREGORIAN
METHOD:PUBLISH
X-ORIGINAL-URL:https://posk.org/en
X-WR-CALDESC:Events for Polski Ośrodek Społeczno-Kulturalny
REFRESH-INTERVAL;VALUE=DURATION:PT1H
X-Robots-Tag:noindex
X-PUBLISHED-TTL:PT1H
BEGIN:VTIMEZONE
TZID:UTC
BEGIN:STANDARD
TZOFFSETFROM:+0000
TZOFFSETTO:+0000
TZNAME:UTC
DTSTART:20220101T000000
END:STANDARD
END:VTIMEZONE
BEGIN:VEVENT
DTSTART;TZID=UTC:20230909T180000
DTEND;TZID=UTC:20231010T210000
DTSTAMP:20260420T150836
CREATED:20230908T110044Z
LAST-MODIFIED:20240507T152331Z
UID:2902-1694282400-1696971600@posk.org
SUMMARY:09.09. | Dariusz Zeller and Remi Juśkiewicz
DESCRIPTION:Dariusz Zeller and Remi Juśkiewicz cordially invite you to the London Meetings with Authors.\n  \nThe event starts at 18:00 \n  \nFree admission
URL:https://posk.org/en/event/until-14-04-art-exhibition-maria-jarmolowicz-hutton/
LOCATION:Atrium\, 238-246 King Street\, London\, W6 0RF\, United Kingdom
CATEGORIES:Concert,Przemówienia
ATTACH;FMTTYPE=image/jpeg:https://posk.org/wp-content/uploads/2023/04/art-exhibition-maria-jarmulowicz.jpg
END:VEVENT
BEGIN:VEVENT
DTSTART;TZID=UTC:20230924T110000
DTEND;TZID=UTC:20230924T170000
DTSTAMP:20260420T150836
CREATED:20231015T150504Z
LAST-MODIFIED:20230810T161310Z
UID:3259-1695553200-1695574800@posk.org
SUMMARY:02.09. | The meeting with Irena Delmar-Czarnecka
DESCRIPTION:The Polish Library POSK cordially invites you\nA unique meeting with Irena Delmar-Czarnecka\n\nThe meeting will take place on Saturday\, September 2 at 17:00.\nThe conversation on the stage of the POSK Theater will be attended by:\nIrena Delmar\nAnna Maria Anders \nand Ewa Urszula Stepan\n\n\nThe Polish Library of POSK in London cordially invites you to the promotion of a book published by the Theater Institute of Z. Raszewski in Warsaw by Ewa Urszula Stepan under the title:“On the stage of life. Irena Delmar-Czarnecka”. \nThe conversation on the stage of the POSK Theater in London will be attended by: Irena Delmar\, Anna Maria Anders and Ewa Urszula Stepan. \nDuring the meeting\, you will be able to buy a copy of the book autographed by Irena Delmar.\nFree entrance \n\nWe would like to remind you that in order to take part in the meeting with Irena Delmar\, you must book an admission ticket in advance at this link:\nCLICK HERE\n\n\nYou can also do this by writing to us at library@polishlibraryposk.org.uk\nYou’re welcome!\n\n\n  \n\n 
URL:https://posk.org/en/event/06-05-mark-buckingham-big-band/
LOCATION:POSK\, 238-246 King Street\, London\, London\, W6 0RF\, United Kingdom
ATTACH;FMTTYPE=image/jpeg:https://posk.org/wp-content/uploads/2018/01/MARK-BUCKINGHAM-BIG-BAND-posk.jpg
END:VEVENT
END:VCALENDAR