BEGIN:VCALENDAR
VERSION:2.0
PRODID:-//Polski Ośrodek Społeczno-Kulturalny - ECPv6.15.20//NONSGML v1.0//EN
CALSCALE:GREGORIAN
METHOD:PUBLISH
X-ORIGINAL-URL:https://posk.org/en
X-WR-CALDESC:Events for Polski Ośrodek Społeczno-Kulturalny
REFRESH-INTERVAL;VALUE=DURATION:PT1H
X-Robots-Tag:noindex
X-PUBLISHED-TTL:PT1H
BEGIN:VTIMEZONE
TZID:UTC
BEGIN:STANDARD
TZOFFSETFROM:+0000
TZOFFSETTO:+0000
TZNAME:UTC
DTSTART:20230101T000000
END:STANDARD
END:VTIMEZONE
BEGIN:VEVENT
DTSTART;TZID=UTC:20241103T150000
DTEND;TZID=UTC:20241103T163500
DTSTAMP:20260424T163355
CREATED:20241005T181905Z
LAST-MODIFIED:20241025T120235Z
UID:6418-1730646000-1730651700@posk.org
SUMMARY:03.11| Screening of the film "HOME"
DESCRIPTION:The film in both Polish and English has Polish subtitles in places where English dialogue takes place\, and English subtitles when it falls in Polish. \nMeli Hilleard film\nEven on the ruins a new home can be built. Documentary\, Independent Cinema\, Experimental\, Artistic\, Author\, “Found Footage” ‘HOME’ subverts the rules about how we assumed a film should look. This 95-minute documentary was created from “found footage”; shot over many years with a “belly-up” camera\, capturing events completely improvised\, and the script was written last\, in a process almost reversed. The film focuses on family\, identity\, emigration\, and the circle of life\, death and rebirth. It was inspired by seven years of film and photographic footage\, showing the lives of a handful of people thrown out of their cultures and homes\, who make a home and find love in the home of a 90-year-old\, bedridden writer\, in a London suburb. “HOME” film website & trailer https://melahilleard.com/?page_id=192 \nTICKETS – click here \n03.11.2024\, 3 – 4:35 pm\nSala Orłów\, POSK
URL:https://posk.org/en/event/03-11-screening-of-the-film-home/
LOCATION:Sala Orłów\, 238-246 King Street\, London\, W6 0RF\, United Kingdom
CATEGORIES:POSK cinema
ATTACH;FMTTYPE=image/jpeg:https://posk.org/wp-content/uploads/2024/10/POSK-HOME-special-screening.jpg
END:VEVENT
BEGIN:VEVENT
DTSTART;TZID=UTC:20241103T170000
DTEND;TZID=UTC:20241103T190000
DTSTAMP:20260424T163355
CREATED:20241006T192212Z
LAST-MODIFIED:20241021T121040Z
UID:7187-1730653200-1730660400@posk.org
SUMMARY:03.11| Grzegorz Halama: An evening full of laughter
DESCRIPTION:From the series of events: POLISH AUTUMN IN POSK \nProject financed by the Ministry of Foreign Affairs of the Republic of Poland in the competition “Polonia and Poles Abroad 2024 – Polish events and initiatives” through the Association “Polish Community” \nProject title: Days of Polish Culture in POSK London\n\nThe publication expresses only the views of the author and cannot be equated with the official position of the Polish Ministry of Foreign Affairs.\n\n\nGRZEGORZ HALAMA. AN EVENING FULL OF LAUGHTER  \nDo you feel like having an evening full of laughter?  **Grzegorz Halama**\, an icon of Polish cabaret and stand-up\, invites you to his one-of-a-kind performance in London! Already for **30 years on stage**\, Halama has been serving up humor that entertains generations – from iconic characters to brand new skits and stand-up gems. His show includes **classics** that have won the hearts of fans\, as well as completely fresh jokes that will crack you up. But that’s not all! On stage there will also be **songs** full of irony and unique humor that show his versatility. Grzegorz Halama is **the master of absurd wit** and brilliant observations of everyday life. If you want to spend an evening in the company of laughter and good mood\, **you can’t miss this show**. Come and see why he has been **entertaining Poland** for three decades! GRZEGORZ HALAMA – Polish cabaret\, film and theater actor\, as well as parodist. He has worked with many famous figures\, such as Rafal Kmita and Jaroslaw Jaros. He has been associated with such cabarets as Kabaret Bez Oparcia\, Rafal Kmita’s Author Cabaret and Zielonogórskie Zagłębie Kabaretowe. He has also appeared in several film productions and series\, including the famous comedy “Oh\, Charles 2” and the stage play “Pilgrims.”        \n\nPOSK Theater\, 5:00 pm  \nFree admission
URL:https://posk.org/en/event/03-11-grzegorz-halama-an-evening-full-of-laughter/
LOCATION:Teatr POSK\, 238-246 King Street\, London\, W6 0RF\, United Kingdom
CATEGORIES:POSK Theatre
ATTACH;FMTTYPE=image/jpeg:https://posk.org/wp-content/uploads/2024/10/halama-londyn-posk.jpg
END:VEVENT
END:VCALENDAR