BEGIN:VCALENDAR
VERSION:2.0
PRODID:-//Polski Ośrodek Społeczno-Kulturalny - ECPv6.15.20//NONSGML v1.0//EN
CALSCALE:GREGORIAN
METHOD:PUBLISH
X-WR-CALNAME:Polski Ośrodek Społeczno-Kulturalny
X-ORIGINAL-URL:https://posk.org/en
X-WR-CALDESC:Events for Polski Ośrodek Społeczno-Kulturalny
REFRESH-INTERVAL;VALUE=DURATION:PT1H
X-Robots-Tag:noindex
X-PUBLISHED-TTL:PT1H
BEGIN:VTIMEZONE
TZID:UTC
BEGIN:STANDARD
TZOFFSETFROM:+0000
TZOFFSETTO:+0000
TZNAME:UTC
DTSTART:20230101T000000
END:STANDARD
END:VTIMEZONE
BEGIN:VEVENT
DTSTART;TZID=UTC:20241130T190000
DTEND;TZID=UTC:20241130T233000
DTSTAMP:20260424T132652
CREATED:20241012T091156Z
LAST-MODIFIED:20241125T170154Z
UID:7254-1732993200-1733009400@posk.org
SUMMARY:30.11| "Malinowe Andrzejki" at POSK!
DESCRIPTION:[vc_row][vc_column icons_position=”left”][vc_column_text]  \n [/vc_column_text][/vc_column][/vc_row]
URL:https://posk.org/en/event/30-11-malinowe-andrzejki-at-posk/
LOCATION:Sala Malinowa
ATTACH;FMTTYPE=image/jpeg:https://posk.org/wp-content/uploads/2024/09/malinowe-andrzejki-posk-londyn.jpg
END:VEVENT
END:VCALENDAR