BEGIN:VCALENDAR
VERSION:2.0
PRODID:-//Polski Ośrodek Społeczno-Kulturalny - ECPv6.15.20//NONSGML v1.0//EN
CALSCALE:GREGORIAN
METHOD:PUBLISH
X-WR-CALNAME:Polski Ośrodek Społeczno-Kulturalny
X-ORIGINAL-URL:https://posk.org/en
X-WR-CALDESC:Events for Polski Ośrodek Społeczno-Kulturalny
REFRESH-INTERVAL;VALUE=DURATION:PT1H
X-Robots-Tag:noindex
X-PUBLISHED-TTL:PT1H
BEGIN:VTIMEZONE
TZID:UTC
BEGIN:STANDARD
TZOFFSETFROM:+0000
TZOFFSETTO:+0000
TZNAME:UTC
DTSTART:20230101T000000
END:STANDARD
END:VTIMEZONE
BEGIN:VEVENT
DTSTART;TZID=UTC:20241011T200000
DTEND;TZID=UTC:20241011T220000
DTSTAMP:20260424T110602
CREATED:20240921T154221Z
LAST-MODIFIED:20240904T154221Z
UID:6981-1728676800-1728684000@posk.org
SUMMARY:11.10| Jazz Samba concert
DESCRIPTION:Mark Crooks and Nigel Price present JAZZ SAMBA QUINTET!\nFeaturing leading tenor saxophonist MARK CROOKS and award-winning guitarist NIGEL PRICE (as you’ve never heard him before!)\, ‘Jazz Samba’ spotlights Stan Getz and Charlie Byrd’s ground-breaking 1962 recording\, the first ever fully fledged bossa nova album recorded by American jazz musicians.\nA commercial success\, it topped the LP charts on its release and produced its own pop hit single – ‘Desafinado’ \nMark Crooks is a lyrical and passionate saxophonist in the Stan Getz mould.\nHe has appeared at jazz clubs and festivals throughout Europe\, and at the Lincoln Centre in New York and is a long-standing member of the John Wilson Orchestra with which he has played regularly at BBC Proms. \n\nTickets
URL:https://posk.org/en/event/11-10-jazz-samba-concert/
LOCATION:Jazz Cafe POSK\, 238-246 King Street\, London\, W6 0RF\, United Kingdom
CATEGORIES:Jazz Café
ATTACH;FMTTYPE=image/jpeg:https://posk.org/wp-content/uploads/2024/08/https___cdn.evbuc_.com_images_827893419_1926300711373_1_original.jpeg
END:VEVENT
END:VCALENDAR