BEGIN:VCALENDAR
VERSION:2.0
PRODID:-//Polski Ośrodek Społeczno-Kulturalny - ECPv6.15.20//NONSGML v1.0//EN
CALSCALE:GREGORIAN
METHOD:PUBLISH
X-ORIGINAL-URL:https://posk.org
X-WR-CALDESC:Wydarzenia dla Polski Ośrodek Społeczno-Kulturalny
REFRESH-INTERVAL;VALUE=DURATION:PT1H
X-Robots-Tag:noindex
X-PUBLISHED-TTL:PT1H
BEGIN:VTIMEZONE
TZID:UTC
BEGIN:STANDARD
TZOFFSETFROM:+0000
TZOFFSETTO:+0000
TZNAME:UTC
DTSTART:20220101T000000
END:STANDARD
END:VTIMEZONE
BEGIN:VEVENT
DTSTART;TZID=UTC:20231111T160000
DTEND;TZID=UTC:20231111T180000
DTSTAMP:20260424T101235
CREATED:20230920T115825Z
LAST-MODIFIED:20231016T193627Z
UID:3778-1699718400-1699725600@posk.org
SUMMARY:11.11. | Spektakl: Księżniczka na ziarnku grochu
DESCRIPTION:„Księżniczka na ziarnku grochu”\nTeatr POSK Dzieciom\, spektakl serdecznie zaprasza na wspaniałą bajkę pt\, „Księżniczka na ziarnku grochu”! Przedstawienie przeznaczone dla widzów od lat 5 do 105 lat! \nPo sukcesie spektaklu dla dzieci „Powtórka z Czerwonego Kapturka” Teatr POSK Dzieciom przygotował kolejną premierę dla najmłodszych fanów popularnych bajek. Tym razem twórcy dziecięcego teatru w Polskim Ośrodku Społeczno-Kulturalnym zapraszają na nowe widowisko! \nFACEBOOK \nZabawny\, pouczający i pełny teatralnego uroku spektakl zachwyci zarówno młodszą jak również tę starszą publiczność. \nTej bajki nie można przegapić! Zapraszamy! \n16:00 – 18:00 KUP BILET
URL:https://posk.org/event/dysfunkcja-mitochondriow-i-konsekwencje-zdrowotne/
LOCATION:Teatr POSK\, 238-246 King Street\, London\, W6 0RF\, United Kingdom
CATEGORIES:Teatr & Przedstawienia
ATTACH;FMTTYPE=image/jpeg:https://posk.org/wp-content/uploads/2023/08/theatre-posk.jpeg
END:VEVENT
END:VCALENDAR