BEGIN:VCALENDAR
VERSION:2.0
PRODID:-//Polski Ośrodek Społeczno-Kulturalny - ECPv6.15.20//NONSGML v1.0//EN
CALSCALE:GREGORIAN
METHOD:PUBLISH
X-WR-CALNAME:Polski Ośrodek Społeczno-Kulturalny
X-ORIGINAL-URL:https://posk.org
X-WR-CALDESC:Wydarzenia dla Polski Ośrodek Społeczno-Kulturalny
REFRESH-INTERVAL;VALUE=DURATION:PT1H
X-Robots-Tag:noindex
X-PUBLISHED-TTL:PT1H
BEGIN:VTIMEZONE
TZID:UTC
BEGIN:STANDARD
TZOFFSETFROM:+0000
TZOFFSETTO:+0000
TZNAME:UTC
DTSTART:20230101T000000
END:STANDARD
END:VTIMEZONE
BEGIN:VEVENT
DTSTART;TZID=UTC:20240810T090000
DTEND;TZID=UTC:20240911T210000
DTSTAMP:20260421T094843
CREATED:20240617T133649Z
LAST-MODIFIED:20240905T140701Z
UID:5927-1723280400-1726088400@posk.org
SUMMARY:10.08| Wystawa: Warsaw Calling Uprising 1944
DESCRIPTION:Warsaw Calling Uprising 1944Wystawa zorganizowana jest przez The Polish Underground Movement Study Trust \nGaleria POSKDo 11 września 2024wstęp wolny \nWystawa z okazji 80. rocznicy Powstania 1944 w Londynie ukazuje mało znane powiązania brytyjskie.\n\nWiktoriański dom na Ealing odkrywa historyczny skarb.\n\n1 sierpnia 1944 r. polski ruch oporu walczący z nazistami rozpoczął powstanie warszawskie – jedno z największych powstań przeciwko rządom Hitlera w okupowanej Europie. Mając przewagę liczebną i uzbrojoną\, powstańcy walczyli z wojskami niemieckimi przez dwa miesiące\, zanim zostali zmuszeni do poddania się. Naziści zabili około 200 000 bojowników i cywilów oraz zniszczyli miasto.\n\nPolscy dowódcy chcieli przejąć kontrolę nad stolicą przed przybyciem sowieckiej Armii Czerwonej\, która zbliżała się do wschodnich przedmieść Warszawy\, wypierając z drogi wojska niemieckie. Polacy wierzyli\, że ustanawiając swoją władzę\, uda im się w jakiś sposób zapobiec narzuceniu rządów stalinowskich. Ich nadzieje okazały się płonne – Armia Czerwona wstrzymała natarcie i nie zapewniła żadnej realnej pomocy w czasie powstania\, a dostawy od zachodnich sojuszników\, zrzucane na spadochronach\, były zbyt skąpe\, aby cokolwiek zmienić.\n\nWystawa koncentruje się na osobistych historiach bojowników biorących udział w tej straszliwej bitwie oraz ludności cywilnej uwikłanej w konflikt. Cierpienie\, odwaga i rozpacz zaangażowanych osób odbijają się szerokim echem w dzisiejszym świecie\, w którym występują liczne brutalne konflikty.\n\nWystawa podkreśla kluczową rolę\, jaką w powstaniu odegrał Londyn. Rząd Polski\, stacjonujący tam przez większą część II wojny światowej\, oraz polskie dowództwo wojskowe kierowały walkami za pośrednictwem szyfrowanych łączy radiowych z warszawskimi oficerami. Tajne wiadomości przesyłane były codziennie między Wielką Brytanią a stolicą Polski.\n\nOryginalne sygnały do ​​dziś znajdują się w Londynie\, w archiwach the Polish Underground Movement Study Trust\, przechowywanych w wiktoriańskim domu na zachodnich przedmieściach Ealing. Jak również wiadomości\, budynek zawiera tysiące oryginalnych akt powstania oraz akt personalnych oficerów\, żołnierzy\, bojowników i szpiegów.\n\n\nDokumenty zostały zdeponowane po wojnie przez dowódców stacjonujących w Londynie oraz przez wielu bojowników\, którym udało się przedostać na zachód\, a także przez innych w Polsce. Sam dom został zakupiony i przekształcony w ośrodek badawczy\, z którego obecnie korzystają badacze z całego świata.\n\nThe Trust jest afiliowany i blisko współpracuje z Instytutem Polskim w Londynie oraz Muzeum Sikorskiego\, w którym znajdują się archiwa Rządu RP na uchodźstwie oraz Wojska Polskiego II Wojny Światowej i które udzieliły nieocenionej pomocy w przygotowaniu wystawy.\n\n\nInformacje o wydarzeniach towarzyszących: warsaw1944.uk
URL:https://posk.org/event/10-08-wystawa-warsaw-calling-uprising-1944/
LOCATION:Galeria POSK\, 238-246 King Street\, London\, Hammersmith\, W6 0RF\, United Kingdom
CATEGORIES:Sztuka & Wystawy
ATTACH;FMTTYPE=image/jpeg:https://posk.org/wp-content/uploads/2024/06/448453733_1042911334500812_1585860224656995444_n.jpg
END:VEVENT
BEGIN:VEVENT
DTSTART;TZID=UTC:20240903T110000
DTEND;TZID=UTC:20240926T170000
DTSTAMP:20260421T094843
CREATED:20240827T153345Z
LAST-MODIFIED:20240827T153448Z
UID:6330-1725361200-1727370000@posk.org
SUMMARY:01.09: Obiekt miesiąca w Instytucie Piłsudskiego
DESCRIPTION:Serdecznie zapraszamy do odwiedzania obiektu miesiąca w Instytucie Piłsudskiego. We wrześniu będzie to gazeta wydana 1 września 1939 i początek II Wojny Światowej. \nZapraszamy do Instytutu Piłsudskiego\, mieszczącego się na 2 piętrze w POSK. \nObiekty można zwiedzać we wtorki i czwartki od godz.: 11:00 do 19:00. \nWstęp bezpłatny!
URL:https://posk.org/event/01-09-obiekt-miesiaca-w-instytucie-pilsudskiego/
LOCATION:Instytut Piłsudskiego w Londynie
CATEGORIES:Spotkanie
ATTACH;FMTTYPE=image/jpeg:https://posk.org/wp-content/uploads/2024/08/wrzesien-2024-.jpg
END:VEVENT
BEGIN:VEVENT
DTSTART;TZID=UTC:20240908T100000
DTEND;TZID=UTC:20240908T170000
DTSTAMP:20260421T094843
CREATED:20240716T142824Z
LAST-MODIFIED:20240716T154844Z
UID:6153-1725789600-1725814800@posk.org
SUMMARY:08.09| Sesja Naukowa Biblioteki Polskiej: Joseph Conrad-Korzeniowski. 100 lat po śmierci.
DESCRIPTION:Serdecznie zapraszamy do rejestrowania swojego udziału w Sesji Naukowej: „Joseph Conrad-Korzeniowski. 100 lat po śmierci”\, na którą Biblioteka Polska zaprasza 8 września do Teatru POSK w Londynie. Wstęp na wydarzenie jest bezpłatny po wcześniejszej rejestracji.\nZgłoszenia prosimy kierować na eventbrite: https://www.eventbrite.co.uk/e/sesja-naukowa-joseph-conrad-korzeniowski-100-lat-po-smierci-tickets-947757447037?aff=ebdsoporgprofile\nlub na email: library@polishlibraryposk.org.uk \n  \nProgram sesji: \nJoseph Conrad-Korzeniowski. 100 lat po śmierci  \nTeatr POSK\, 8 września 2024.  \nGodz. 9.30 – 9.45: Rejestracja uczestników. \nGodz. 10.00: Powitania \nDr Marek Laskiewicz\, prezes POSK \nAmbasada RP w Londynie \nJoseph Conrad Society \nDr Dobrosława Platt \nGodz. 10:20 – 10:40 \nAdam Ferdynand Lausch-Hołubowicz\, badacz niezależny (Kraków/Londyn)\, stały członek Joseph Conrad Society\, UK oraz The Joseph Conrad Society of America \nCztery wcielenia Conrada-Korzeniowskiego na lądzie i morzu. \nGodz. 10:40 -11:00 \nDr Lila Omelan\, Collegium Witelona\, Legnica \nOpiekunowie Conrada. \nGodz. 11:00 – 11:20 \nDr hab. Sylwia Wojciechowska\, Akademia Ignatianum\, Kraków \nPolskość ukryta w gawędzie: „Ze wspomnień” Josepha Conrada. \nGodz. 11:20 – 11:30 \nDyskusja. \nGodz. 11:30 – 12:00 \nPrzerwa na kawę. \nGodz. 12:00 – 12:20 \nProf. dr hab. Agnieszka Adamowicz-Pośpiech\, Uniwersytet Śląski\, Katowice \nWspółczesne adaptacje „Jądra ciemności” J. Conrada. \nGodz. 12:20 – 12:40 \nDr Jarosław Giza\, Akademia Nauk Stosowanych\, Nowy Sącz \nOdkrywanie Jądra ciemności Josepha Conrada poprzez pryzmat muzyki heavy-metalowej: Analiza porównawcza utworu muzycznego „The Edge of Darkness” Iron Maiden i literackiego arcydzieła Conrada. \nGodz. 12:40 – 13:00 \nDr hab. Marek Pacukiewicz\, Prof. Uniwersytetu Śląskiego\, \nPerspektywa narzeczonej. Wokół Jądra ciemności. \nGodz. 13:00 – 13:15 \nDyskusja. \nGodz. 13:15 – 14:30 \nPrzerwa na obiad. \nGodz. 14:30 – 14:50 \nProf. dr hab. Grzegorz Przebinda\, Uniwersytet Jagielloński \n„Wieczna Rosja” w oczach Conrada – w kontekście obecnej wojny z Ukrainą. \nGodz. 14:50 – 15:10 \nDr hab. Brygida Pudełko\, Prof. Uniwersytetu Opolskiego\, \nObraz ptaka w „Zwierciadle morza” Conrada i „Zapiskach myśliwego” Turgieniewa. \nGodz. 15:10 – 15:20 \nPrzerwa. \nGodz. 15:20 – 15:40 \nDr hab. Wiesław Ratajczak\, Prof. Uniwersytetu im. A. Mickiewicza\, Poznań \nPo stronie Conrada. Polscy apologeci pisarza 1945-1956. \nGodz. 15:40 – 16:00 \nDr hab. Anna Szczepan-Wojnarska\, Prof. Uniwersytetu Kardynała Stefana Wyszyńskiego\, Warszawa \n„Zwycięstwo” Conrada w kontekście literatury polskiej. \nGodz. 16:00 – 16:10 \nDyskusja i podsumowanie obrad.
URL:https://posk.org/event/08-09-sesja-naukowa-biblioteki-polskiej-joseph-conrad-korzeniowski-100-lat-po-smierci/
LOCATION:Teatr POSK\, 238-246 King Street\, London\, W6 0RF\, United Kingdom
CATEGORIES:Wydarzenie Biblioteki Polskiej POSK,Wykład
ATTACH;FMTTYPE=image/jpeg:https://posk.org/wp-content/uploads/2024/07/451201329_1064192025706076_8748555328131756567_n.jpg
END:VEVENT
END:VCALENDAR