BEGIN:VCALENDAR
VERSION:2.0
PRODID:-//Polski Ośrodek Społeczno-Kulturalny - ECPv6.15.20//NONSGML v1.0//EN
CALSCALE:GREGORIAN
METHOD:PUBLISH
X-WR-CALNAME:Polski Ośrodek Społeczno-Kulturalny
X-ORIGINAL-URL:https://posk.org
X-WR-CALDESC:Wydarzenia dla Polski Ośrodek Społeczno-Kulturalny
REFRESH-INTERVAL;VALUE=DURATION:PT1H
X-Robots-Tag:noindex
X-PUBLISHED-TTL:PT1H
BEGIN:VTIMEZONE
TZID:UTC
BEGIN:STANDARD
TZOFFSETFROM:+0000
TZOFFSETTO:+0000
TZNAME:UTC
DTSTART:20230101T000000
END:STANDARD
END:VTIMEZONE
BEGIN:VEVENT
DTSTART;TZID=UTC:20240903T110000
DTEND;TZID=UTC:20240926T170000
DTSTAMP:20260424T162505
CREATED:20240827T153345Z
LAST-MODIFIED:20240827T153448Z
UID:6330-1725361200-1727370000@posk.org
SUMMARY:01.09: Obiekt miesiąca w Instytucie Piłsudskiego
DESCRIPTION:Serdecznie zapraszamy do odwiedzania obiektu miesiąca w Instytucie Piłsudskiego. We wrześniu będzie to gazeta wydana 1 września 1939 i początek II Wojny Światowej. \nZapraszamy do Instytutu Piłsudskiego\, mieszczącego się na 2 piętrze w POSK. \nObiekty można zwiedzać we wtorki i czwartki od godz.: 11:00 do 19:00. \nWstęp bezpłatny!
URL:https://posk.org/event/01-09-obiekt-miesiaca-w-instytucie-pilsudskiego/
LOCATION:Instytut Piłsudskiego w Londynie
CATEGORIES:Spotkanie
ATTACH;FMTTYPE=image/jpeg:https://posk.org/wp-content/uploads/2024/08/wrzesien-2024-.jpg
END:VEVENT
BEGIN:VEVENT
DTSTART;TZID=UTC:20240916T090000
DTEND;TZID=UTC:20241009T210000
DTSTAMP:20260424T162505
CREATED:20240816T071534Z
LAST-MODIFIED:20240925T025707Z
UID:6465-1726477200-1728507600@posk.org
SUMMARY:16.09| Emigration. Will I Make It? Joanna Ciechanowska: A Retrospective Exhibition (1970-2024)
DESCRIPTION:POSK Gallery \nEmigration. Will I Make It? Joanna Ciechanowska: A Retrospective Exhibition (1970-2024)\n  \nThe exhibition traces Ciechanowska’s rich and versatile creative output in the context of her vicissitudes and the itinerary of her life journey as an émigré woman artist together with key formative influences. Having left Poland during the communist regime in 1977\, Joanna came to Britain where she met her English civil engineer husband. Together they were sent to many international postings – from Iran\, through Africa (including the Kingdom of Lesotho and Egypt) to Hong Kong\, and post-communist Poland\, where Ciechanowska was able to re-connect with her Polish roots\, before settling down in Great Britain. By the 1980s Ciechanowska became a distinguished international illustrator and graphic designer\, before taking on the role of POSK Gallery Director\, promoting and mentoring Polish artists in the UK. \n  \n        \n     
URL:https://posk.org/event/16-09-emigration-will-i-make-it-joanna-ciechanowska-a-retrospective-exhibition-1970-2024/
LOCATION:Galeria POSK\, 238-246 King Street\, London\, Hammersmith\, W6 0RF\, United Kingdom
CATEGORIES:Sztuka & Wystawy
ATTACH;FMTTYPE=image/jpeg:https://posk.org/wp-content/uploads/2024/09/4cd5dd45-4335-dc7c-9011-a5533165c108.jpg
END:VEVENT
BEGIN:VEVENT
DTSTART;TZID=UTC:20240919T110000
DTEND;TZID=UTC:20240919T120000
DTSTAMP:20260424T162505
CREATED:20240820T071826Z
LAST-MODIFIED:20240907T185714Z
UID:6469-1726743600-1726747200@posk.org
SUMMARY:19.09| APCE: Part1: Curatorial Tour with Artist Joanna Ciechanowska and Co-Curator Dr Julia Griffin
DESCRIPTION:Image Credit: Joanna Ciechanowska\, More than Meets the Eye\, charcoal on paper\, 1988\n\n\n\n\n\n\n\n\n\n\n\n\n3rd annual Anglo-Polish Cultural Exchange Festival – in partnership with the Association for Art History’s Art History Festival \nCuratorial Tour with Artist Joanna Ciechanowska and Co-Curator Dr Julia Griffin\nEmigration. Will I Make It?\nJoanna Ciechanowska: A Retrospective Exhibition (1970-2024)\n*tea and coffee included* \nThis event will be run twice during the day. Choose the time slot that suits you. \nRegister here! \nMorning slot 11:00am – 12pm \nAfternoon slot 6pm – 7:30pm \n\n\n\n\n\n\n\n\n\n\n\n\nYou are cordially invited to the Curatorial Tour of the first retrospective exhibition of the Polish-born\, UK-based artist\, illustrator and graphic designer Joanna Ciechanowska. The exhibition traces Ciechanowska’s rich and versatile creative output in the context of her vicissitudes and the itinerary of her life journey as an émigré woman artist together with key formative influences. Having left Poland during the communist regime in 1977\, Joanna came to Britain where she met her English civil engineer husband. Together they were sent to many international postings – from Iran\, through Africa (including the Kingdom of Lesotho and Egypt) to Hong Kong\, and post-communist Poland\, where Ciechanowska was able to re-connect with her Polish roots\, before settling down in Great Britain. By the 1980s Ciechanowska became a distinguished international illustrator and graphic designer\, before taking on the role of POSK Gallery Director\, promoting and mentoring Polish artists in the UK. \nART HISTORY FESTIVAL 2024\n\n\n\n\n\n\n\n\n\n\n\n\nThursday 19th September 2024\, 11:00am – 12:00pm\, POSK Gallery \nCHECK Anglo-Polish Cultural Exchange website! \nPolish Social and Cultural Association \nfree admission
URL:https://posk.org/event/19-09-apce-part1-curatorial-tour-with-artist-joanna-ciechanowska-and-co-curator-dr-julia-griffin/
LOCATION:Galeria POSK\, 238-246 King Street\, London\, Hammersmith\, W6 0RF\, United Kingdom
CATEGORIES:Wykład
ATTACH;FMTTYPE=image/jpeg:https://posk.org/wp-content/uploads/2024/09/1e3ce0a2-9021-abf7-350a-b0f515fb1b61.jpg
END:VEVENT
BEGIN:VEVENT
DTSTART;TZID=UTC:20240919T183000
DTEND;TZID=UTC:20240919T193000
DTSTAMP:20260424T162505
CREATED:20240821T072128Z
LAST-MODIFIED:20240907T185739Z
UID:6473-1726770600-1726774200@posk.org
SUMMARY:19.09| APCE: Part2: Curatorial Tour with Artist Joanna Ciechanowska and Co-Curator Dr Julia Griffin
DESCRIPTION:Image Credit: Joanna Ciechanowska\, Running late\, Trains delayed\, feed the cat 🙂 x\, 2013\n\n\n\n\n\n\n\n\n\n\n\n\n3rd annual Anglo-Polish Cultural Exchange Festival – in partnership with the Association for Art History’s Art History Festival \nCuratorial Tour with Artist Joanna Ciechanowska and Co-Curator Dr Julia Griffin\nEmigration. Will I Make It?\nJoanna Ciechanowska: A Retrospective Exhibition (1970-2024)\n*a glass of wine included* \nThis event will be run twice during the day. Choose the time slot that suits you. \nRegister here! \nMorning slot 11:00am – 12pm \nAfternoon slot 6pm – 7:30pm \n\n\n\n\n\n\n\n\n\n\n\n\nYou are cordially invited to the Curatorial Tour of the first retrospective exhibition of the Polish-born\, UK-based artist\, illustrator and graphic designer Joanna Ciechanowska. The exhibition traces Ciechanowska’s rich and versatile creative output in the context of her vicissitudes and the itinerary of her life journey as an émigré woman artist together with key formative influences. Having left Poland during the communist regime in 1977\, Joanna came to Britain where she met her English civil engineer husband. Together they were sent to many international postings – from Iran\, through Africa (including the Kingdom of Lesotho and Egypt) to Hong Kong\, and post-communist Poland\, where Ciechanowska was able to re-connect with her Polish roots\, before settling down in Great Britain. By the 1980s Ciechanowska became a distinguished international illustrator and graphic designer\, before taking on the role of POSK Gallery Director\, promoting and mentoring Polish artists in the UK. \nART HISTORY FESTIVAL 2024\n\n\n\n\n\n\n\n\n\n\n\n\nThursday 19th September 2024\, 6 – 7:30pm\, POSK Gallery \nCHECK Anglo-Polish Cultural Exchange website! \nPolish Social and Cultural Association \nfree admission
URL:https://posk.org/event/19-09-apce-part2-curatorial-tour-with-artist-joanna-ciechanowska-and-co-curator-dr-julia-griffin/
LOCATION:Galeria POSK\, 238-246 King Street\, London\, Hammersmith\, W6 0RF\, United Kingdom
CATEGORIES:Sztuka & Wystawy
ATTACH;FMTTYPE=image/jpeg:https://posk.org/wp-content/uploads/2024/09/57427dcf-f393-9242-8827-4b45321af90b.jpg
END:VEVENT
END:VCALENDAR