BEGIN:VCALENDAR
VERSION:2.0
PRODID:-//Polski Ośrodek Społeczno-Kulturalny - ECPv6.15.20//NONSGML v1.0//EN
CALSCALE:GREGORIAN
METHOD:PUBLISH
X-ORIGINAL-URL:https://posk.org
X-WR-CALDESC:Wydarzenia dla Polski Ośrodek Społeczno-Kulturalny
REFRESH-INTERVAL;VALUE=DURATION:PT1H
X-Robots-Tag:noindex
X-PUBLISHED-TTL:PT1H
BEGIN:VTIMEZONE
TZID:UTC
BEGIN:STANDARD
TZOFFSETFROM:+0000
TZOFFSETTO:+0000
TZNAME:UTC
DTSTART:20230101T000000
END:STANDARD
END:VTIMEZONE
BEGIN:VEVENT
DTSTART;TZID=UTC:20241001T110000
DTEND;TZID=UTC:20241031T190000
DTSTAMP:20260421T121443
CREATED:20240912T071506Z
LAST-MODIFIED:20240926T084556Z
UID:6827-1727780400-1730401200@posk.org
SUMMARY:1.10| Obiekt miesiąca w Instytucie Piłsudskiego w POSK-u
DESCRIPTION:Zapraszamy do Instytutu Piłsudskiego\, mieszczącego się na 2 piętrze w POSK. \nObiekty można zwiedzać do końca października we wtorki i czwartki od godz.: 11:00 do 19:00. \nWstęp bezpłatny!
URL:https://posk.org/event/1-10-obiekt-miesiaca-w-instytucie-pilsudskiego-w-posk-u/
LOCATION:Instytut Piłsudskiego w Londynie
CATEGORIES:Sztuka & Wystawy
ATTACH;FMTTYPE=image/jpeg:https://posk.org/wp-content/uploads/2024/09/e.jpg
END:VEVENT
BEGIN:VEVENT
DTSTART;TZID=UTC:20241020T110000
DTEND;TZID=UTC:20241020T130000
DTSTAMP:20260421T121443
CREATED:20240926T163557Z
LAST-MODIFIED:20241010T072111Z
UID:6577-1729422000-1729429200@posk.org
SUMMARY:20.10| Warsztaty folkowe dla dzieci w POSK-u!
DESCRIPTION:⭐Zajęcia odbywać się będą w dniach: 20.10\, 10.11\, 1.12 ⭐ \nStudio POSK godz. 11:00 – 13:00 \n*Wiek dzieci: od 6 lat* \nW programie nauka tańców i przyśpiewek ludowych oraz zajęcia plastyczne. Uczestnicy poznają różne regiony Polski. Zajęcia taneczne prowadzi zespół Tatry. \nBilety: £5 \nhttps://rb.gy/8ta8m1
URL:https://posk.org/event/20-10-warsztaty-folkowe-dla-dzieci-w-posk-u/
LOCATION:Studio POSK\, 238-246 King Street\, London\, W6 0RF\, United Kingdom
CATEGORIES:Warsztat
ATTACH;FMTTYPE=image/jpeg:https://posk.org/wp-content/uploads/2024/09/Warsztaty-folkowe.jpg
END:VEVENT
BEGIN:VEVENT
DTSTART;TZID=UTC:20241020T130000
DTEND;TZID=UTC:20241020T150000
DTSTAMP:20260421T121443
CREATED:20241005T081200Z
LAST-MODIFIED:20241005T081200Z
UID:7085-1729429200-1729436400@posk.org
SUMMARY:20.10| Dzień Edukacji Narodowej
DESCRIPTION:Edukator oraz Londyńska Parada\, mają zaszczyt zaproszenia Państwa na DZIEŃ EDUKACJI NARODOWEJ pod Honorowym Patronatem Prezesa IPN.Sala Malinowa POSK\, niedziela20 października godzina 13.00.Wstęp wolny
URL:https://posk.org/event/20-10-dzien-edukacji-narodowej/
LOCATION:Sala Malinowa
CATEGORIES:Spotkanie
ATTACH;FMTTYPE=image/jpeg:https://posk.org/wp-content/uploads/2024/10/462212391_1090554769737215_9011960022421174370_n.jpg
END:VEVENT
BEGIN:VEVENT
DTSTART;TZID=UTC:20241020T140000
DTEND;TZID=UTC:20241020T170000
DTSTAMP:20260421T121443
CREATED:20240926T140718Z
LAST-MODIFIED:20241014T072258Z
UID:6458-1729432800-1729443600@posk.org
SUMMARY:20.10| Niedziela w księgarni PMS
DESCRIPTION:Niedziela w księgarni \nPolska Macierz Szkolna zaprasza na spotkanie z Krystyną Stevenson\, autorką książki o podróżach misia! \nktóra opowie o swojej pasji i twórczości. \nZ okazji Dnia Dwujęzyczności wręczymy nagrody laureatom konkursu tłumaczeniowego „Londyn na językach”. \nKrystyna Stevenson otrzymała tytuł magistra z języka i literatury polskiej w Uniwersytecie Łódzkim\, tytuł licencjacki z psychologii\, a także dyplomy z poradnictwa\, psychoterapii i hipnoterapii w Wielkiej Brytanii. Pracuje jako psychoterapeutka w Londynie.Publikuje książki gównie w języku angielskim. Należą do nich: „What’s the truth”\, „Poems for my granddaughter- Wierszyki dla mojej wnusi” wiersze w obu językach\, „Secrets of my Teddy Bear”. Obecnie książka tłumaczona na język polski. Krystyna pracowała w Polsce jako prezenterka telewizyjna i dziennikarka. Pisała opowiadania i wiersze od wczesnego dzieciństwa.
URL:https://posk.org/event/20-10-niedziela-w-ksiegarni-pms/
LOCATION:Księgarnia Polskiej Macierzy Szkolnej w POSK
CATEGORIES:Spotkanie
ATTACH;FMTTYPE=image/jpeg:https://posk.org/wp-content/uploads/2024/09/PMS-Stevenson-20.10.24.jpg
END:VEVENT
BEGIN:VEVENT
DTSTART;TZID=UTC:20241020T150000
DTEND;TZID=UTC:20241020T190000
DTSTAMP:20260421T121443
CREATED:20240926T094654Z
LAST-MODIFIED:20241008T113654Z
UID:6858-1729436400-1729450800@posk.org
SUMMARY:20.10| Gala Vademecum Nauczyciela
DESCRIPTION:Polska Szkoła im. Wisławy Szymborskiej w Tunbridge Wells\nzaprasza do projektu\nVADEMECUM NAUCZYCIELA \nProjekt obejmuje:\n* cotygodniowe spotkania online\, które pomogą uczestnikom poprawić umiejętności pisania scenariuszy lekcyjnych (od 8 września godz. 15.00)\n* przygotowania do udziału w konkursie na konspekt zajęć\n* udział w konkursie na najlepszy konspekt lekcji z kultury i tradycji polskich – do 6 października czekamy na prace przesłane na email: vademecumnauczyciela@gmail.com\n* ocenę prac konkursowych przez jury\n* galę z poczęstunkiem z okazji Dnia Nauczyciela i wręczeniem zwycięskiej nagrody – 20 października w Polskim Ośrodku Społeczno-Kulturalnym w Londynie \nvademecumnauczyciela@gmail.com  \ntel. 00 44 7525340141 \nREGULAMIN KONURSU – kliknij tutaj
URL:https://posk.org/event/20-10-gala-vademecum-nauczyciela/
CATEGORIES:Spotkanie
ATTACH;FMTTYPE=image/jpeg:https://posk.org/wp-content/uploads/2024/09/Gala-Vademecum-Nauczyciela.jpg
END:VEVENT
BEGIN:VEVENT
DTSTART;TZID=UTC:20241020T170000
DTEND;TZID=UTC:20241020T190000
DTSTAMP:20260421T121443
CREATED:20240926T165849Z
LAST-MODIFIED:20240926T084746Z
UID:6454-1729443600-1729450800@posk.org
SUMMARY:20.10| Sonia Bohosiewicz Domówka
DESCRIPTION:O wydarzeniu\nSonia Bohosiewicz zaprasza na spotkanie pełne zabawnych anegdot\, wzruszeń i opowieści o pierwszych lekcjach życia. „Domówka” to lekka a zarazem osobista podróż aktorki do czasów PRL-u oraz największych przebojów w historii polskiej piosenki.  \nO spektaklu Domówka\nMuzodram Soni Bohosiewicz to komedia koncertowa – połączenie spektaklu\, stand-upu\, śpiewu i improwizacji. Aktorka podczas występu dzieli się z publicznością wyjątkowymi historiami o miłości\, o kobietach i mężczyznach. \nW trakcie „Domówki” Bohosiewicz piecze ciasto w prodiżu a publiczność śpiewa razem z nią największe polskie przeboje. Podczas występu usłyszymy takie hity jak „W moim magicznym domku”\, „Małgośka”\, „Jesteś lekiem na całe zło” czy „Józek\, nie daruję ci tej nocy”. \n\nScenariusz i reżyseria: Sonia Bohosiewicz\nWystępuje: Sonia Bohosiewicz\n Tickets
URL:https://posk.org/event/20-10-sonia-bohosiewicz-domowka/
LOCATION:Teatr POSK\, 238-246 King Street\, London\, W6 0RF\, United Kingdom
CATEGORIES:Teatr & Przedstawienia
ATTACH;FMTTYPE=image/jpeg:https://posk.org/wp-content/uploads/2024/09/https___cdn.evbuc_.com_images_761993459_244273178064_1_original.jpeg
END:VEVENT
END:VCALENDAR