BEGIN:VCALENDAR
VERSION:2.0
PRODID:-//Polski Ośrodek Społeczno-Kulturalny - ECPv6.15.20//NONSGML v1.0//EN
CALSCALE:GREGORIAN
METHOD:PUBLISH
X-WR-CALNAME:Polski Ośrodek Społeczno-Kulturalny
X-ORIGINAL-URL:https://posk.org
X-WR-CALDESC:Wydarzenia dla Polski Ośrodek Społeczno-Kulturalny
REFRESH-INTERVAL;VALUE=DURATION:PT1H
X-Robots-Tag:noindex
X-PUBLISHED-TTL:PT1H
BEGIN:VTIMEZONE
TZID:UTC
BEGIN:STANDARD
TZOFFSETFROM:+0000
TZOFFSETTO:+0000
TZNAME:UTC
DTSTART:20230101T000000
END:STANDARD
END:VTIMEZONE
BEGIN:VEVENT
DTSTART;TZID=UTC:20241001T110000
DTEND;TZID=UTC:20241031T190000
DTSTAMP:20260420T153202
CREATED:20240912T071506Z
LAST-MODIFIED:20240926T084556Z
UID:6827-1727780400-1730401200@posk.org
SUMMARY:1.10| Obiekt miesiąca w Instytucie Piłsudskiego w POSK-u
DESCRIPTION:Zapraszamy do Instytutu Piłsudskiego\, mieszczącego się na 2 piętrze w POSK. \nObiekty można zwiedzać do końca października we wtorki i czwartki od godz.: 11:00 do 19:00. \nWstęp bezpłatny!
URL:https://posk.org/event/1-10-obiekt-miesiaca-w-instytucie-pilsudskiego-w-posk-u/
LOCATION:Instytut Piłsudskiego w Londynie
CATEGORIES:Sztuka & Wystawy
ATTACH;FMTTYPE=image/jpeg:https://posk.org/wp-content/uploads/2024/09/e.jpg
END:VEVENT
BEGIN:VEVENT
DTSTART;TZID=UTC:20241025T183000
DTEND;TZID=UTC:20241025T203000
DTSTAMP:20260420T153202
CREATED:20240926T073347Z
LAST-MODIFIED:20241003T074658Z
UID:6990-1729881000-1729888200@posk.org
SUMMARY:25.10| Projekcja filmu pt.: "Kryptonim Klasztor: Dopaść Pileckiego"
DESCRIPTION:Biblioteka Polska POSK w Londynie serdecznie zaprasza na projekcję filmu pt.: „Kryptonim Klasztor. Dopaść Pileckiego” w reżyserii Jarosława Mańki. Po projekcji filmu przewidziane jest spotkanie z reżyserem. \nWydarzenie odbędzie się 25 października o godz.:18:30 w Sali Orłów w POSK. \nKryptonim „Klasztor” – Dopaść Pileckiego (55’) – to film dokumentalny\, przedstawiający szerzej nieznane kulisy wielowątkowej operacji wywiadu komunistycznej bezpieki o kryptonimie „Klasztor”\, która doprowadziła do aresztowania Witolda Pileckiego i jego najbliższych współpracowników.\n\nAutorzy przedstawiają wyrafinowaną grę bezpieki: funkcjonariuszy i tajnych współpracowników komunistycznych służb specjalnych. Celem operacji „Klasztor” było nie tylko ujęcie grupy Pileckiego\, ale także zastawienie pułapki\, przeprowadzenie prowokacji\, która miała „udowodnić”\, że „ochotnik do Auschwitz” chciał likwidować czołowych funkcjonariuszy kierownictwa Ministerstwa Bezpieczeństwa Publicznego. \nFilm opowiada o ostatnim\, 1\,5 rocznym okresie życia Witolda Pileckiego i jego ochotniczej misji do Polski – od powrotu z włoskiej Ankony (w porozumieniu z gen. Władysławem Andersem) w grudniu 1945 r.\, aż do aresztowania w Warszawie w maju 1947 r. \nCałkowitą nowością jest pokazanie autentycznych miejsc związanych z historią Pileckiego – od niemieckiego obozu Auschwitz\, po komunistyczną Polskę – lokale konspiracyjne\, w końcu więzienie przy ul. Rakowieckiej\, gdzie byli męczeni\, po niemal nieznany gmach w centrum Warszawy\, gdzie byli „sądzeni”. \nW filmie występują m.in. historycy: prof. Wiesław Jan Wysocki\, dr Adam Cyra\, dr Tomasz Łabuszewski\, ks. Tomasz Trzaska\, członkowie rodzin Witolda Pileckiego i pozostałych wywiadowców. (PAP)
URL:https://posk.org/event/25-10-projekcja-filmu-pt-kryptonim-klasztor-dopasc-pileckiego/
LOCATION:Sala Orłów\, 238-246 King Street\, London\, W6 0RF\, United Kingdom
CATEGORIES:Wydarzenie Biblioteki Polskiej POSK
ATTACH;FMTTYPE=image/jpeg:https://posk.org/wp-content/uploads/2024/09/BP_Pilecki_FACEBOOK-scaled.jpg
END:VEVENT
BEGIN:VEVENT
DTSTART;TZID=UTC:20241025T200000
DTEND;TZID=UTC:20241025T223000
DTSTAMP:20260420T153202
CREATED:20240926T153428Z
LAST-MODIFIED:20241021T105958Z
UID:6784-1729886400-1729895400@posk.org
SUMMARY:25.10| Koncert Marta Carillon Quintet: Broadway Jazz Night – A Tribute to the Greats!
DESCRIPTION:Marta Carillon Quintet: Broadway Jazz Night – A Tribute to the Greats!\nJoin us for an unforgettable night of Broadway Jazz with the Marta Carillon Quintet! Get ready to be transported to the golden age of musical theatre as they pay tribute to the greats with their unique and vibrant interpretations of classic songs!\nFrom the sultry „Fever” to the energetic „It Don’t Mean a Thing\,” each song will have you tapping your feet and singing along. Marta Carillon’s mesmerizing vocals combined with the quintet’s dynamic arrangements will leave you wanting more.\nDon’t miss out on this one-of-a-kind experience and get your tickets now! Come and enjoy the magic of Broadway Jazz Night with the Marta Carillon Quintet!\n\nTickets 
URL:https://posk.org/event/25-10-koncert-marta-carillon-quintet-broadway-jazz-night-a-tribute-to-the-greats/
LOCATION:Jazz Cafe POSK\, 238-246 King Street\, London\, W6 0RF\, United Kingdom
CATEGORIES:Jazz Café
ATTACH;FMTTYPE=image/jpeg:https://posk.org/wp-content/uploads/2024/09/460196549_1111170174341594_2104935560477174005_n.jpg
END:VEVENT
END:VCALENDAR