BEGIN:VCALENDAR
VERSION:2.0
PRODID:-//Polski Ośrodek Społeczno-Kulturalny - ECPv6.15.20//NONSGML v1.0//EN
CALSCALE:GREGORIAN
METHOD:PUBLISH
X-WR-CALNAME:Polski Ośrodek Społeczno-Kulturalny
X-ORIGINAL-URL:https://posk.org
X-WR-CALDESC:Wydarzenia dla Polski Ośrodek Społeczno-Kulturalny
REFRESH-INTERVAL;VALUE=DURATION:PT1H
X-Robots-Tag:noindex
X-PUBLISHED-TTL:PT1H
BEGIN:VTIMEZONE
TZID:UTC
BEGIN:STANDARD
TZOFFSETFROM:+0000
TZOFFSETTO:+0000
TZNAME:UTC
DTSTART:20230101T000000
END:STANDARD
END:VTIMEZONE
BEGIN:VEVENT
DTSTART;TZID=UTC:20241109T090000
DTEND;TZID=UTC:20250301T210000
DTSTAMP:20260421T103819
CREATED:20241107T114625Z
LAST-MODIFIED:20250130T204232Z
UID:7508-1731142800-1740862800@posk.org
SUMMARY:09.11| Dwujęzyczna wystawa "Warsaw Adamant/ Warszawa Nieugięta"
DESCRIPTION:Wystawa „Warsaw Adamant/ Warszawa Nieugięta” przygotowana została przez Towarzystwo Projektów Edukacyjnych. Opowiada ona o niezłomności i wytrwałości stolicy Rzeczpospolitej i jej mieszkańców.\nOtwarciu wystawy towarzyszyć będzie: pokaz dwóch filmów dokumentalnych – „Warszawa – Miasto Pamięci” i „Warszawa – Miasto Bohaterów” oraz prezentacja albumu „ Warszawa Nieugięta” autorstwa Witold Rawski i Wiktora Cygana.\nWstęp wolny. Zapraszamy do Sali Orłów!
URL:https://posk.org/event/09-11-otwarcie-dwujezycznej-wystawy-warsaw-adamant-warszawa-nieugieta/
LOCATION:Sala Orłów\, 238-246 King Street\, London\, W6 0RF\, United Kingdom
CATEGORIES:Sztuka & Wystawy
ATTACH;FMTTYPE=image/jpeg:https://posk.org/wp-content/uploads/2024/11/465171683_1651397279107648_3360727135536547611_n.jpg
END:VEVENT
BEGIN:VEVENT
DTSTART;TZID=UTC:20241203T120000
DTEND;TZID=UTC:20241227T190000
DTSTAMP:20260421T103819
CREATED:20241128T201450Z
LAST-MODIFIED:20241128T201631Z
UID:7726-1733227200-1735326000@posk.org
SUMMARY:01.12| Eksponat miesiąca w Instytucie Piłsudskiego
DESCRIPTION:Konkurs plastyczny „Kasztanka” \nTej jesieni Instytut Piłsudskiego zorganizował konkurs plastyczny. Zadaniem dzieci było wykonanie z kasztanów i liści konia Marszałka Piłsudskiego.\nPraca\, która zdobyła I miejsce została eksponatem  miesiąca grudnia. Serdecznie zapraszamy do Instytutu Piłsudskiego\, gdzie można ocenić „FANTAZJE” autorek Julii i Sary Zygmunt.
URL:https://posk.org/event/01-12-eksponat-miesiaca-w-instytucie-pilsudskiego/
LOCATION:Instytut Piłsudskiego w Londynie
CATEGORIES:Spotkanie
ATTACH;FMTTYPE=image/jpeg:https://posk.org/wp-content/uploads/2024/11/Eksponat-na-grudzien.jpg
END:VEVENT
BEGIN:VEVENT
DTSTART;TZID=UTC:20241211T100000
DTEND;TZID=UTC:20250126T170000
DTSTAMP:20260421T103819
CREATED:20241204T213546Z
LAST-MODIFIED:20241204T213546Z
UID:7742-1733911200-1737910800@posk.org
SUMMARY:11.12| POSK Gallery APA exhibition: Untitled
DESCRIPTION:Wystawa w Galerii POSK od 11 grudnia 2024 do 26 stycznia 2025. \nWstęp wolny.
URL:https://posk.org/event/11-12-posk-gallery-apa-exhibition-untitled/
LOCATION:Galeria POSK\, 238-246 King Street\, London\, Hammersmith\, W6 0RF\, United Kingdom
CATEGORIES:Sztuka & Wystawy
ATTACH;FMTTYPE=application/pdf:https://posk.org/wp-content/uploads/2024/12/Untitled-APA-Poster.pdf
END:VEVENT
BEGIN:VEVENT
DTSTART;TZID=UTC:20241220T190000
DTEND;TZID=UTC:20241220T200000
DTSTAMP:20260421T103819
CREATED:20241202T160424Z
LAST-MODIFIED:20241205T134643Z
UID:7735-1734721200-1734724800@posk.org
SUMMARY:20.12| Talk by Sushil Pandit
DESCRIPTION:Aktywna działaczka społeczna z Ealingu\, Joanna Dudzińska\, w swoim comiesięcznym cyklu spacerów i wydarzeń w Londynie „Talking and exploring” zorganizowała dwa wieczory w POSK-u w Atrium\, poświęcone Solidarności. \nW wydarzeniu\, 20-go grudnia\,  w Atrium\, sympatyk Solidarności \, Sushil Pandit\, opisuje jakie wrażenie Solidarność miała dla niego jako studenta aktywisty w Indiach\, gdy petycje do Ambasady PRL nosił przez ulice stolicy Delhi\, a potem opisuje ciekawą i burzliwą historię prowincji indyjskiej\, Kaszmir. \n  \nTalk by Sushil Pandit about reaction in Delhi  to the imposition of martial law in Poland  20 December Atrium 7.00pmFree entry
URL:https://posk.org/event/20-12-talk-by-sushil-pandit/
LOCATION:Atrium\, 238-246 King Street\, London\, W6 0RF\, United Kingdom
CATEGORIES:Spotkanie
ATTACH;FMTTYPE=image/jpeg:https://posk.org/wp-content/uploads/2024/12/468862005_1171340801657864_1305043270160474302_n.jpg
END:VEVENT
BEGIN:VEVENT
DTSTART;TZID=UTC:20241220T200000
DTEND;TZID=UTC:20241220T223000
DTSTAMP:20260421T103819
CREATED:20241113T202812Z
LAST-MODIFIED:20241211T092300Z
UID:7571-1734724800-1734733800@posk.org
SUMMARY:20.12| Koncert:JULIAN NICHOLAS & EMIL VIKLICKÝ: FOOD OF LOVE - ALBUM LAUNCH!
DESCRIPTION:Bar 7 pm / music 8 pm \nJulian Nicholas & Emil Viklicky Quartet: “Food of Love” (Rubicon Jazz) – album launch! \nThe concert will feature a quartet brought together to celebrate and build upon the legacy of this celebrated album from 1995\, originally recorded in Prague\, CZ. There will be compositions from the original album and new work\, too. Emil and Julian have worked together for 35 years in many circumstances – tonight they are joined by two associates with powerful and individual voices – Steve Watts and Mike Pickering! \nThe album is on: www.rubiconclassics.com \nLine up: \nJulian Nicholas – saxophone \nEmil Viklicky – piano \nSteve Watts – double bass \nMike Pickering – drums \n  \nTickets
URL:https://posk.org/event/20-12-koncertjulian-nicholas-emil-viklicky-food-of-love-album-launch/
LOCATION:Jazz Cafe POSK\, 238-246 King Street\, London\, W6 0RF\, United Kingdom
CATEGORIES:Jazz Café,Koncert
ATTACH;FMTTYPE=image/jpeg:https://posk.org/wp-content/uploads/2024/11/469969532_1180108160781128_6073432020061291594_n.jpg
END:VEVENT
END:VCALENDAR