BEGIN:VCALENDAR
VERSION:2.0
PRODID:-//Polski Ośrodek Społeczno-Kulturalny - ECPv6.15.20//NONSGML v1.0//EN
CALSCALE:GREGORIAN
METHOD:PUBLISH
X-WR-CALNAME:Polski Ośrodek Społeczno-Kulturalny
X-ORIGINAL-URL:https://posk.org
X-WR-CALDESC:Wydarzenia dla Polski Ośrodek Społeczno-Kulturalny
REFRESH-INTERVAL;VALUE=DURATION:PT1H
X-Robots-Tag:noindex
X-PUBLISHED-TTL:PT1H
BEGIN:VTIMEZONE
TZID:UTC
BEGIN:STANDARD
TZOFFSETFROM:+0000
TZOFFSETTO:+0000
TZNAME:UTC
DTSTART:20230101T000000
END:STANDARD
END:VTIMEZONE
BEGIN:VEVENT
DTSTART;TZID=UTC:20241109T090000
DTEND;TZID=UTC:20250301T210000
DTSTAMP:20260424T105230
CREATED:20241107T114625Z
LAST-MODIFIED:20250130T204232Z
UID:7508-1731142800-1740862800@posk.org
SUMMARY:09.11| Dwujęzyczna wystawa "Warsaw Adamant/ Warszawa Nieugięta"
DESCRIPTION:Wystawa „Warsaw Adamant/ Warszawa Nieugięta” przygotowana została przez Towarzystwo Projektów Edukacyjnych. Opowiada ona o niezłomności i wytrwałości stolicy Rzeczpospolitej i jej mieszkańców.\nOtwarciu wystawy towarzyszyć będzie: pokaz dwóch filmów dokumentalnych – „Warszawa – Miasto Pamięci” i „Warszawa – Miasto Bohaterów” oraz prezentacja albumu „ Warszawa Nieugięta” autorstwa Witold Rawski i Wiktora Cygana.\nWstęp wolny. Zapraszamy do Sali Orłów!
URL:https://posk.org/event/09-11-otwarcie-dwujezycznej-wystawy-warsaw-adamant-warszawa-nieugieta/
LOCATION:Sala Orłów\, 238-246 King Street\, London\, W6 0RF\, United Kingdom
CATEGORIES:Sztuka & Wystawy
ATTACH;FMTTYPE=image/jpeg:https://posk.org/wp-content/uploads/2024/11/465171683_1651397279107648_3360727135536547611_n.jpg
END:VEVENT
BEGIN:VEVENT
DTSTART;TZID=UTC:20241211T100000
DTEND;TZID=UTC:20250126T170000
DTSTAMP:20260424T105230
CREATED:20241204T213546Z
LAST-MODIFIED:20241204T213546Z
UID:7742-1733911200-1737910800@posk.org
SUMMARY:11.12| POSK Gallery APA exhibition: Untitled
DESCRIPTION:Wystawa w Galerii POSK od 11 grudnia 2024 do 26 stycznia 2025. \nWstęp wolny.
URL:https://posk.org/event/11-12-posk-gallery-apa-exhibition-untitled/
LOCATION:Galeria POSK\, 238-246 King Street\, London\, Hammersmith\, W6 0RF\, United Kingdom
CATEGORIES:Sztuka & Wystawy
ATTACH;FMTTYPE=application/pdf:https://posk.org/wp-content/uploads/2024/12/Untitled-APA-Poster.pdf
END:VEVENT
BEGIN:VEVENT
DTSTART;TZID=UTC:20250107T120000
DTEND;TZID=UTC:20250130T190000
DTSTAMP:20260424T105230
CREATED:20241128T201902Z
LAST-MODIFIED:20241128T201902Z
UID:7731-1736251200-1738263600@posk.org
SUMMARY:04.01| Eksponat miesiąca w Instytucie Piłsudskiego
DESCRIPTION:Już od 6 stycznia w Instytucie Piłsudskiego w gablotce przeznaczonej dla eksponatów miesiąca\nbędzie można zobaczyć pamiątkowy drewniany talerz z wyrzeźbionym wizerunkiem Orła Białego.
URL:https://posk.org/event/04-01-eksponat-miesiaca-w-instytucie-pilsudskiego/
LOCATION:Instytut Piłsudskiego w Londynie
CATEGORIES:Spotkanie
ATTACH;FMTTYPE=image/jpeg:https://posk.org/wp-content/uploads/2024/11/eksponat-na-styczen-scaled.jpg
END:VEVENT
BEGIN:VEVENT
DTSTART;TZID=UTC:20250118T180000
DTEND;TZID=UTC:20250118T190000
DTSTAMP:20260424T105230
CREATED:20250113T193819Z
LAST-MODIFIED:20250113T193819Z
UID:8110-1737223200-1737226800@posk.org
SUMMARY:18.01| Londyńskie Spotkania Autorskie
DESCRIPTION:Dariusz Zeller oraz Remi Juśkiewicz serdecznie zapraszają na pierwsze w tym roku Londyńskie Spotkania Autorskie.18 stycznia 2025Godz.: 18.00Sala Atrium
URL:https://posk.org/event/18-01-londynskie-spotkania-autorskie/
LOCATION:Atrium\, 238-246 King Street\, London\, W6 0RF\, United Kingdom
CATEGORIES:Spotkanie
ATTACH;FMTTYPE=image/jpeg:https://posk.org/wp-content/uploads/2025/01/473205533_1206249048167039_3087267984728620983_n.jpg
END:VEVENT
BEGIN:VEVENT
DTSTART;TZID=UTC:20250118T200000
DTEND;TZID=UTC:20250118T223000
DTSTAMP:20260424T105230
CREATED:20241122T132521Z
LAST-MODIFIED:20250103T092121Z
UID:7688-1737230400-1737239400@posk.org
SUMMARY:18.01| Koncert jazzowy: "Above the Clouds and Beyond”: Celebrating 4 Years of the Ilario Ferrari Trio!
DESCRIPTION:Bar 7 pm / music 8 pm \n„Above the Clouds and Beyond”: Celebrating 4 Years of the Ilario Ferrari Trio! \nFollowing their sold-out album launch in London\, we’re thrilled to welcome the Ilario Ferrari Trio for their debut at Jazz Café POSK! This special evening celebrates both the release of their critically acclaimed second album\, Above the Clouds\, and their fourth anniversary as a band. As Tinnitist magazine noted\, this is an „uplifting\, thoughtful\, and gorgeous new album”. \nPianist and vocalist Ilario Ferrari has developed a distinctive style that blends contemporary jazz with soulful vocals\, and rich vocal harmonies\, drawing on the sounds and spirit of his Southern Italian roots. His vision is brought to life by two exceptional collaborators\, drummer Katie Patterson and double bassist Charlie Pyne—both rising stars in the UK jazz scene. \nSince their debut in 2021\, the trio has captivated audiences across the UK and Europe\, the synergy between Ilario Charlie and Katie is a hallmark of every performance. For this event\, they’ll be joined by special guest trumpeter Henry Spencer\, described as „spectacular” by The Guardian\, on select numbers\, adding an extra layer of excitement to the evening. \nPrepare for a memorable night of award-winning original music\, and a few special surprises crafted exclusively for the Jazz Café POSK audience\, where the trio’s chemistry shines as “one mind in three heads” (Jazz Journal)! \n  \nTickets
URL:https://posk.org/event/18-01-koncert-jazzowy-above-the-clouds-and-beyond-celebrating-4-years-of-the-ilario-ferrari-trio/
LOCATION:Jazz Cafe POSK\, 238-246 King Street\, London\, W6 0RF\, United Kingdom
CATEGORIES:Jazz Café,Koncert
ATTACH;FMTTYPE=image/jpeg:https://posk.org/wp-content/uploads/2024/11/472159574_1198245112300766_5367221783415730083_n.jpg
END:VEVENT
BEGIN:VEVENT
DTSTART;TZID=UTC:20250118T200000
DTEND;TZID=UTC:20250118T230000
DTSTAMP:20260424T105230
CREATED:20250117T102046Z
LAST-MODIFIED:20250117T102046Z
UID:8170-1737230400-1737241200@posk.org
SUMMARY:18.01| Disco night w POSKlubie!
DESCRIPTION:Sobota\, 18 stycznia\, godz. 20:00-23:30 \nIV p. w POSKu\, 238-246 King Street\, Londyn W6 0RF \n  \nWejściówki dostępne na miejscu w POSKlubie. \nLink do imprezy: \nfb.com/events/606682875278480
URL:https://posk.org/event/18-01-disco-night-w-posklubie/
LOCATION:POSK\, 238-246 King Street\, London\, London\, W6 0RF\, United Kingdom
CATEGORIES:Spotkanie
ATTACH;FMTTYPE=image/jpeg:https://posk.org/wp-content/uploads/2025/01/411803-202501161539-lg.jpeg
END:VEVENT
END:VCALENDAR