BEGIN:VCALENDAR
VERSION:2.0
PRODID:-//Polski Ośrodek Społeczno-Kulturalny - ECPv6.15.20//NONSGML v1.0//EN
CALSCALE:GREGORIAN
METHOD:PUBLISH
X-WR-CALNAME:Polski Ośrodek Społeczno-Kulturalny
X-ORIGINAL-URL:https://posk.org
X-WR-CALDESC:Wydarzenia dla Polski Ośrodek Społeczno-Kulturalny
REFRESH-INTERVAL;VALUE=DURATION:PT1H
X-Robots-Tag:noindex
X-PUBLISHED-TTL:PT1H
BEGIN:VTIMEZONE
TZID:UTC
BEGIN:STANDARD
TZOFFSETFROM:+0000
TZOFFSETTO:+0000
TZNAME:UTC
DTSTART:20230101T000000
END:STANDARD
END:VTIMEZONE
BEGIN:VEVENT
DTSTART;TZID=UTC:20241109T090000
DTEND;TZID=UTC:20250301T210000
DTSTAMP:20260420T144642
CREATED:20241107T114625Z
LAST-MODIFIED:20250130T204232Z
UID:7508-1731142800-1740862800@posk.org
SUMMARY:09.11| Dwujęzyczna wystawa "Warsaw Adamant/ Warszawa Nieugięta"
DESCRIPTION:Wystawa „Warsaw Adamant/ Warszawa Nieugięta” przygotowana została przez Towarzystwo Projektów Edukacyjnych. Opowiada ona o niezłomności i wytrwałości stolicy Rzeczpospolitej i jej mieszkańców.\nOtwarciu wystawy towarzyszyć będzie: pokaz dwóch filmów dokumentalnych – „Warszawa – Miasto Pamięci” i „Warszawa – Miasto Bohaterów” oraz prezentacja albumu „ Warszawa Nieugięta” autorstwa Witold Rawski i Wiktora Cygana.\nWstęp wolny. Zapraszamy do Sali Orłów!
URL:https://posk.org/event/09-11-otwarcie-dwujezycznej-wystawy-warsaw-adamant-warszawa-nieugieta/
LOCATION:Sala Orłów\, 238-246 King Street\, London\, W6 0RF\, United Kingdom
CATEGORIES:Sztuka & Wystawy
ATTACH;FMTTYPE=image/jpeg:https://posk.org/wp-content/uploads/2024/11/465171683_1651397279107648_3360727135536547611_n.jpg
END:VEVENT
BEGIN:VEVENT
DTSTART;TZID=UTC:20250201T090000
DTEND;TZID=UTC:20250228T210000
DTSTAMP:20260420T144642
CREATED:20250108T133118Z
LAST-MODIFIED:20250108T133633Z
UID:8067-1738400400-1740776400@posk.org
SUMMARY:01.02| Wystawa Biblioteki Polskiej: Felix Fabian. Z kolekcji Lili Stern-Pohlmann\, MBE
DESCRIPTION:Z ogromną radością zapraszamy Państwa na najbliższą wystawę organizowaną przez Bibliotekę Polską POSK w Londynie\, na której zaprezentowana zostanie twórczość Felixa Fabiana. \nNa otwarcie wystawy „Z kolekcji Lili Stern-Pohlmann\, MBE/ From collection of Lili Steen-Pohlmann MBE” zapraszamy 1 lutego o godz. 16:00 do Galerii POSK. \nFeliks Fabian był polskim malarzem realistą\, który zmarł w Londynie w 1994. Duża część jego twórczości to obrazy przedstawiające wspomnienia\, codzienne życie we wschodnioeuropejskim miasteczku żydowskim. Zasłynął jako wytrawny portrecista\, uwieczniał na swoich obrazach gwiazdy filmu i teatru. \nMalarstwa uczył się pod kierunkiem prof. Sterlinga w Wiedniu\, a następnie prof. Maccioco w Rzymie. Po wybuchu II wojny światowej wyjechał do Lwowa\, gdzie znalazł zatrudnienie jako grafik w teatrze Feliksa Konarskiego. Występował parodiując Charliego Chaplina\, został aresztowany przez NKWD w 1940 i zesłany w głąb ZSRR. Uwolniony na podstawie amnestii w 1941 dołączył do organizowanej Armii Polskiej na Wschodzie\, z którą wyruszył przez Bliski Wschód. W międzyczasie występował w Czołówce Teatralnej i Paradzie Polskiej. Po zakończeniu działań wojennych podjął decyzję o pozostaniu na emigracji\, początkowo mieszkał w Wielkiej Brytanii\, skąd wkrótce wyjechał do Argentyny. Od 1948 przez trzy lata pełnił funkcję dyrektora artystycznego działającego w branży filmowej „Studio Parana” w Buenos Aires. W 1951 założył własną pracownię malarską\, w połowie lat 60. podjął decyzję o przeprowadzce do Londynu\, gdzie mieszkał aż do śmierci.
URL:https://posk.org/event/01-02-wystawa-biblioteki-polskiej-felix-fabian-z-kolekcji-lili-stern-pohlmann-mbe/
LOCATION:Galeria POSK\, 238-246 King Street\, London\, Hammersmith\, W6 0RF\, United Kingdom
CATEGORIES:Sztuka & Wystawy
ATTACH;FMTTYPE=image/jpeg:https://posk.org/wp-content/uploads/2025/01/BP_FELIX_FABIAN_POSTER_FACEBOOK-scaled.jpg
END:VEVENT
BEGIN:VEVENT
DTSTART;TZID=UTC:20250202T100000
DTEND;TZID=UTC:20250202T170000
DTSTAMP:20260420T144642
CREATED:20250113T121038Z
LAST-MODIFIED:20250113T121038Z
UID:8103-1738490400-1738515600@posk.org
SUMMARY:02.02| Szkolenie dotyczące zaburzeń neuro-rozwojowych u dzieci i młodzieży!
DESCRIPTION:Serdecznie zapraszamy rodziców i nauczycieli na szkolenie dotyczące zaburzeń neurorozwojowych u dzieci i młodzieży!Kiedy: 2 lutego\, godz. 10.00-17.00Sala Multimedialna\, POSK\, LondynCena: szkoła PMS: £25szkoły NZ: £35To wyjątkowa okazja\, aby: Poszerzyć wiedzę o wyzwaniach neurorozwojowych. Zdobyć praktyczne wskazówki do pracy z dziećmi. Zadać pytania i skorzystać z doświadczenia ekspertki.ADHD KONFERENCJA SZKOŁY PMShttps://www.eventbrite.co.uk/…/adhd-konferencja-szkoy…ADHD KONFERENCJA SZKOŁY NZhttps://www.eventbrite.co.uk/…/adhd-konferencja-szkoy…
URL:https://posk.org/event/02-02-szkolenie-dotyczace-zaburzen-neuro-rozwojowych-u-dzieci-i-mlodziezy/
LOCATION:Sala Multimedialna 4 piętro
CATEGORIES:Spotkanie
ATTACH;FMTTYPE=image/jpeg:https://posk.org/wp-content/uploads/2025/01/473450375_1165270242269711_8659400416457684984_n.jpg
END:VEVENT
BEGIN:VEVENT
DTSTART;TZID=UTC:20250202T160000
DTEND;TZID=UTC:20250202T170000
DTSTAMP:20260420T144642
CREATED:20250109T102222Z
LAST-MODIFIED:20250126T221629Z
UID:8078-1738512000-1738515600@posk.org
SUMMARY:02.02| Andrzej Wierciński. Koncert charytatywny muzyki klasycznej
DESCRIPTION:The Confraternity of Polish Artists in Great Britain & POSK presents concert for Medical Aid for Poland Fund. \nAndrzej Wierciński – Piano \n2 February 2025\, at 4pm \nTEATR POSK \nAndrzej Wierciński to pianista przekonywujący\, wirtuozowski\, spontaniczny\, pozwalający się nieść wyobraźni i dający czystą radość słuchania – Ruch Muzyczny październik 2020 \nUrodził się 21 listopada 1995 roku w Warszawie. Regularną naukę muzyki podjął w wieku 6 lat\, od 2010 roku w klasie fortepianu Anny Jastrzębskiej-Quinn w Ogólnokształcącej Szkole Muzycznej II stopnia im. Zenona Brzewskiego w Warszawie\, zaś od 2014 roku w Akademii Muzycznej w Katowicach w klasie prof. Wojciecha Świtały. W 2020 roku ukończył studia podyplomowe na jednym z najbardziej renomowanych uniwersytetów w Europie – Mozarteum Universitat w Salzburgu\, w klasie Profesora Pavla Gililova. Swoje umiejętności doskonalił biorąc udział w kursach mistrzowskich prowadzonych przez wybitnych pedagogów\, takich jak: Ewa Pobłocka\, Janusz Olejniczk\, Dmitri Alexeev\, Katarzyna Popowa-Zydroń\, Andrzej Jasiński oraz Sa Chen. W 2012 roku uczestniczył w kursie pianistycznym Morningside Music Bridge w Calgary\, gdzie otrzymał między innymi lekcje mistrzowskie od André Laplante\, Lee Kim-Sing i Krzysztofa Jabłońskiego. \nBilety do kupienia w dniu koncertu lub tutaj: \nTickets \n 
URL:https://posk.org/event/02-02-andrzej-wiercinski-the-confraternity-of-polish-artists-in-great-britain-koncert-muzyki-klasycznej/
LOCATION:Teatr POSK\, 238-246 King Street\, London\, W6 0RF\, United Kingdom
CATEGORIES:Koncert
ATTACH;FMTTYPE=image/jpeg:https://posk.org/wp-content/uploads/2025/01/Konfraternia_Andrzej_Wiercinski_POSTER_FACEBOOK_MAPF-scaled.jpg
END:VEVENT
BEGIN:VEVENT
DTSTART;TZID=UTC:20250202T173000
DTEND;TZID=UTC:20250202T190000
DTSTAMP:20260420T144642
CREATED:20250107T105408Z
LAST-MODIFIED:20250107T105452Z
UID:8048-1738517400-1738522800@posk.org
SUMMARY:02.02| Występ Tomasza Jachimka - komika\, konferansjera
DESCRIPTION:  \n2 lutego\, Polski Ośrodek Społeczno-Kulturalny serdecznie zaprasza do Studio POSK na występ Tomasza Jachimka – komika\, konferansjera\, tekściarza\, scenarzysty oraz dramaturga. \n  \nTomasz Jachimek to komik\, standuper\, konferansjer\, tekściarz\, scenarzysta\, dramaturg. Ponad dwudziestoletnie doświadczenie w pracy na estradzie\, na scenie\, w telewizji i radiu. Laureat wszystkich największych przeglądów kabaretowych w Polsce. \nAutor programów kabaretowych\, tekstów piosenek\, monologów\, sztuk teatralnych i radiowych. \nOd 2005 roku komentator niezwykle popularnego „Szkła Kontaktowego” w TVN 24. \nPodczas występów na żywo niezwykle energetyczny i ekspresyjny – tak w mowie\, jak i w gestykulacji. Z łatwością nawiązuje kontakt z publicznością\, błyskawicznie reaguje na nieoczekiwane wydarzenia na widowni; z taktem\, dowcipem i wyczuciem potrafi odnaleźć się w każdej scenicznej sytuacji. \nŻywy dowód na to\, że brak urody i dykcji nie wyklucza odniesienia sukcesu w branży rozrywkowej. \nUrodził się i wychował w Gdyni; teraz od kilkudziesięciu lat jest podwarszawskim słoikiem występującym na terenie całego kraju\, a czasami nawet poza granicami. \nAbsolwent dziennikarstwa na Uniwersytecie Warszawskim. \nTickets
URL:https://posk.org/event/02-02/
LOCATION:Studio POSK\, 238-246 King Street\, London\, W6 0RF\, United Kingdom
CATEGORIES:Spotkanie
ATTACH;FMTTYPE=image/jpeg:https://posk.org/wp-content/uploads/2025/01/472766561_1201386545319956_7308030653473796006_n.jpg
END:VEVENT
END:VCALENDAR