BEGIN:VCALENDAR
VERSION:2.0
PRODID:-//Polski Ośrodek Społeczno-Kulturalny - ECPv6.15.20//NONSGML v1.0//EN
CALSCALE:GREGORIAN
METHOD:PUBLISH
X-WR-CALNAME:Polski Ośrodek Społeczno-Kulturalny
X-ORIGINAL-URL:https://posk.org
X-WR-CALDESC:Wydarzenia dla Polski Ośrodek Społeczno-Kulturalny
REFRESH-INTERVAL;VALUE=DURATION:PT1H
X-Robots-Tag:noindex
X-PUBLISHED-TTL:PT1H
BEGIN:VTIMEZONE
TZID:UTC
BEGIN:STANDARD
TZOFFSETFROM:+0000
TZOFFSETTO:+0000
TZNAME:UTC
DTSTART:20230101T000000
END:STANDARD
END:VTIMEZONE
BEGIN:VEVENT
DTSTART;TZID=UTC:20241109T090000
DTEND;TZID=UTC:20250301T210000
DTSTAMP:20260420T150706
CREATED:20241107T114625Z
LAST-MODIFIED:20250130T204232Z
UID:7508-1731142800-1740862800@posk.org
SUMMARY:09.11| Dwujęzyczna wystawa "Warsaw Adamant/ Warszawa Nieugięta"
DESCRIPTION:Wystawa „Warsaw Adamant/ Warszawa Nieugięta” przygotowana została przez Towarzystwo Projektów Edukacyjnych. Opowiada ona o niezłomności i wytrwałości stolicy Rzeczpospolitej i jej mieszkańców.\nOtwarciu wystawy towarzyszyć będzie: pokaz dwóch filmów dokumentalnych – „Warszawa – Miasto Pamięci” i „Warszawa – Miasto Bohaterów” oraz prezentacja albumu „ Warszawa Nieugięta” autorstwa Witold Rawski i Wiktora Cygana.\nWstęp wolny. Zapraszamy do Sali Orłów!
URL:https://posk.org/event/09-11-otwarcie-dwujezycznej-wystawy-warsaw-adamant-warszawa-nieugieta/
LOCATION:Sala Orłów\, 238-246 King Street\, London\, W6 0RF\, United Kingdom
CATEGORIES:Sztuka & Wystawy
ATTACH;FMTTYPE=image/jpeg:https://posk.org/wp-content/uploads/2024/11/465171683_1651397279107648_3360727135536547611_n.jpg
END:VEVENT
BEGIN:VEVENT
DTSTART;TZID=UTC:20250201T090000
DTEND;TZID=UTC:20250228T210000
DTSTAMP:20260420T150706
CREATED:20250108T133118Z
LAST-MODIFIED:20250108T133633Z
UID:8067-1738400400-1740776400@posk.org
SUMMARY:01.02| Wystawa Biblioteki Polskiej: Felix Fabian. Z kolekcji Lili Stern-Pohlmann\, MBE
DESCRIPTION:Z ogromną radością zapraszamy Państwa na najbliższą wystawę organizowaną przez Bibliotekę Polską POSK w Londynie\, na której zaprezentowana zostanie twórczość Felixa Fabiana. \nNa otwarcie wystawy „Z kolekcji Lili Stern-Pohlmann\, MBE/ From collection of Lili Steen-Pohlmann MBE” zapraszamy 1 lutego o godz. 16:00 do Galerii POSK. \nFeliks Fabian był polskim malarzem realistą\, który zmarł w Londynie w 1994. Duża część jego twórczości to obrazy przedstawiające wspomnienia\, codzienne życie we wschodnioeuropejskim miasteczku żydowskim. Zasłynął jako wytrawny portrecista\, uwieczniał na swoich obrazach gwiazdy filmu i teatru. \nMalarstwa uczył się pod kierunkiem prof. Sterlinga w Wiedniu\, a następnie prof. Maccioco w Rzymie. Po wybuchu II wojny światowej wyjechał do Lwowa\, gdzie znalazł zatrudnienie jako grafik w teatrze Feliksa Konarskiego. Występował parodiując Charliego Chaplina\, został aresztowany przez NKWD w 1940 i zesłany w głąb ZSRR. Uwolniony na podstawie amnestii w 1941 dołączył do organizowanej Armii Polskiej na Wschodzie\, z którą wyruszył przez Bliski Wschód. W międzyczasie występował w Czołówce Teatralnej i Paradzie Polskiej. Po zakończeniu działań wojennych podjął decyzję o pozostaniu na emigracji\, początkowo mieszkał w Wielkiej Brytanii\, skąd wkrótce wyjechał do Argentyny. Od 1948 przez trzy lata pełnił funkcję dyrektora artystycznego działającego w branży filmowej „Studio Parana” w Buenos Aires. W 1951 założył własną pracownię malarską\, w połowie lat 60. podjął decyzję o przeprowadzce do Londynu\, gdzie mieszkał aż do śmierci.
URL:https://posk.org/event/01-02-wystawa-biblioteki-polskiej-felix-fabian-z-kolekcji-lili-stern-pohlmann-mbe/
LOCATION:Galeria POSK\, 238-246 King Street\, London\, Hammersmith\, W6 0RF\, United Kingdom
CATEGORIES:Sztuka & Wystawy
ATTACH;FMTTYPE=image/jpeg:https://posk.org/wp-content/uploads/2025/01/BP_FELIX_FABIAN_POSTER_FACEBOOK-scaled.jpg
END:VEVENT
BEGIN:VEVENT
DTSTART;TZID=UTC:20250204T120000
DTEND;TZID=UTC:20250227T190000
DTSTAMP:20260420T150706
CREATED:20250128T222042Z
LAST-MODIFIED:20250128T222042Z
UID:8255-1738670400-1740682800@posk.org
SUMMARY:04.02| Obiekt miesiąca w Instytucie Piłsudskiego
DESCRIPTION:Na plakacie Instytutu umieszczono fragment gazety Tydzień Polski z 1961 roku wraz ze zdjęciami z archiwów Instytutu Piłsudskiego w Londynie. \nZapraszamy do odwiedzenia Instytutu! \nWstęp wolny.
URL:https://posk.org/event/04-02-obiekt-miesiaca-w-instytucie-pilsudskiego/
LOCATION:Instytut Piłsudskiego w Londynie
CATEGORIES:Spotkanie
ATTACH;FMTTYPE=image/jpeg:https://posk.org/wp-content/uploads/2025/01/Luty-2025-scaled.jpg
END:VEVENT
BEGIN:VEVENT
DTSTART;TZID=UTC:20250215T180000
DTEND;TZID=UTC:20250215T193000
DTSTAMP:20260420T150706
CREATED:20250209T120433Z
LAST-MODIFIED:20250209T120433Z
UID:8438-1739642400-1739647800@posk.org
SUMMARY:15.02| Londyńskie Spotkania Autorskie
DESCRIPTION:Dariusz Zeller oraz Remi Juśkiewicz serdecznie zapraszają na kolejne Londyńskie Spotkania Autorskie.Zapraszamy 15 lutego na godz.18.00 do Sali Atrium
URL:https://posk.org/event/15-02-londynskie-spotkania-autorskie/
LOCATION:Atrium\, 238-246 King Street\, London\, W6 0RF\, United Kingdom
CATEGORIES:Spotkanie
ATTACH;FMTTYPE=image/jpeg:https://posk.org/wp-content/uploads/2025/02/476968183_1228145549310722_6350014481703702012_n.jpg
END:VEVENT
BEGIN:VEVENT
DTSTART;TZID=UTC:20250215T190000
DTEND;TZID=UTC:20250215T220000
DTSTAMP:20260420T150706
CREATED:20250110T124437Z
LAST-MODIFIED:20250110T124437Z
UID:8094-1739646000-1739656800@posk.org
SUMMARY:15.02| Walentynki w restauracji "Łowiczanka"!
DESCRIPTION:Walentynki w restauracji „Łowiczanka”! \nRestauracja Łowiczanka zaprasza na Walentynki 2025. Więcej informacji i rezerwacje pod numerem: 07494 143 047
URL:https://posk.org/event/15-02-walentynki-w-restauracji-lowiczanka/
LOCATION:Restauracja „Łowiczanka”
CATEGORIES:Spotkanie
ATTACH;FMTTYPE=image/jpeg:https://posk.org/wp-content/uploads/2025/01/472970731_1203230261802251_3864611231651234032_n.jpg
END:VEVENT
BEGIN:VEVENT
DTSTART;TZID=UTC:20250215T200000
DTEND;TZID=UTC:20250215T223000
DTSTAMP:20260420T150706
CREATED:20250107T100215Z
LAST-MODIFIED:20250107T100312Z
UID:8037-1739649600-1739658600@posk.org
SUMMARY:15.02| Koncert jazzowy: El Chamuyo Tango-Jazz Quartet feat. Kamila Bydlowska!
DESCRIPTION:El Chamuyo Tango-Jazz Quartet feat. Kamila Bydlowska! \nEl Chamuyo Tango-Jazz Quartet will play a wide sweep of Argentinian tango music\, ranging from golden era of the 1920s and ’30s\, through to the tango nuevo masterpieces of Piazzolla\, including the famous Oblivion and Four Seasons as well as original music. All jazz flavoured! The event will be listeners and dancers friendly! \nThe El Chamuyo Jazz-Tango Quartet is a London based group\, blurring the boundaries between tango and jazz in exciting and innovative ways. Not forgetting that this music is rooted in dance\, the quartet regularly performs at milongas for tango dancers as well as jazz clubs and concert venues. Most recent performances include Bracknell Jazz\, Guildford Jazz Festival\, and Jamboree (London). \nKamila Bydlowska is a Polish born violinist operating across multiple genres. She performed at The Royal Albert Hall\, Kioi Hall in Tokyo\, iTunes Festival\, Jazz Cafe in London\, and has broadcast on BBC Radio 3\, Classic FM (UK)\, WNYC (New York) and RAI (Italy). \n  \nTickets
URL:https://posk.org/event/15-02-koncert-jazzowy-el-chamuyo-tango-jazz-quartet-feat-kamila-bydlowska/
LOCATION:Jazz Cafe POSK\, 238-246 King Street\, London\, W6 0RF\, United Kingdom
CATEGORIES:Jazz Café,Koncert
ATTACH;FMTTYPE=image/jpeg:https://posk.org/wp-content/uploads/2025/01/https___cdn.evbuc_.com_images_927703483_1926300711373_1_original.jpeg
END:VEVENT
END:VCALENDAR