BEGIN:VCALENDAR
VERSION:2.0
PRODID:-//Polski Ośrodek Społeczno-Kulturalny - ECPv6.15.20//NONSGML v1.0//EN
CALSCALE:GREGORIAN
METHOD:PUBLISH
X-ORIGINAL-URL:https://posk.org
X-WR-CALDESC:Wydarzenia dla Polski Ośrodek Społeczno-Kulturalny
REFRESH-INTERVAL;VALUE=DURATION:PT1H
X-Robots-Tag:noindex
X-PUBLISHED-TTL:PT1H
BEGIN:VTIMEZONE
TZID:UTC
BEGIN:STANDARD
TZOFFSETFROM:+0000
TZOFFSETTO:+0000
TZNAME:UTC
DTSTART:20230101T000000
END:STANDARD
END:VTIMEZONE
BEGIN:VEVENT
DTSTART;TZID=UTC:20241109T090000
DTEND;TZID=UTC:20250301T210000
DTSTAMP:20260420T181020
CREATED:20241107T114625Z
LAST-MODIFIED:20250130T204232Z
UID:7508-1731142800-1740862800@posk.org
SUMMARY:09.11| Dwujęzyczna wystawa "Warsaw Adamant/ Warszawa Nieugięta"
DESCRIPTION:Wystawa „Warsaw Adamant/ Warszawa Nieugięta” przygotowana została przez Towarzystwo Projektów Edukacyjnych. Opowiada ona o niezłomności i wytrwałości stolicy Rzeczpospolitej i jej mieszkańców.\nOtwarciu wystawy towarzyszyć będzie: pokaz dwóch filmów dokumentalnych – „Warszawa – Miasto Pamięci” i „Warszawa – Miasto Bohaterów” oraz prezentacja albumu „ Warszawa Nieugięta” autorstwa Witold Rawski i Wiktora Cygana.\nWstęp wolny. Zapraszamy do Sali Orłów!
URL:https://posk.org/event/09-11-otwarcie-dwujezycznej-wystawy-warsaw-adamant-warszawa-nieugieta/
LOCATION:Sala Orłów\, 238-246 King Street\, London\, W6 0RF\, United Kingdom
CATEGORIES:Sztuka & Wystawy
ATTACH;FMTTYPE=image/jpeg:https://posk.org/wp-content/uploads/2024/11/465171683_1651397279107648_3360727135536547611_n.jpg
END:VEVENT
BEGIN:VEVENT
DTSTART;TZID=UTC:20250301T090000
DTEND;TZID=UTC:20250314T210000
DTSTAMP:20260420T181020
CREATED:20250215T171716Z
LAST-MODIFIED:20250220T094838Z
UID:8547-1740819600-1741986000@posk.org
SUMMARY:01.03| Wystawa w Galerii POSK: sztuka litewska
DESCRIPTION:Wystawa sztuki litewskiej w Wielkiej Brytanii: Międzynarodowy Dzień Kobiet i Dzień Niepodległości Litwy. \nW marcu tego roku sześciu litewskich artystów zjednoczy się w Wielkiej Brytanii\, aby uczcić Międzynarodowy Dzień Kobiet i Dzień Niepodległości Litwy. Prezentując różnorodne style i narracje\, wystawa odzwierciedla litewskie dziedzictwo kulturowe i ewolucję artystyczną. \nEksplorując tematy tożsamości\, wolności i ekspresji\, wystawa jest symbolicznym pomostem kulturowym między Litwą a Wielką Brytanią. Wystawa ta jest świadectwem jedności w różnorodności\, wspierając dialog i uznanie na międzynarodowej scenie artystycznej. \n  \nWstęp wolny!
URL:https://posk.org/event/01-03-wstawa-w-galerii-posk/
LOCATION:Galeria POSK\, 238-246 King Street\, London\, Hammersmith\, W6 0RF\, United Kingdom
CATEGORIES:Sztuka & Wystawy
ATTACH;FMTTYPE=image/jpeg:https://posk.org/wp-content/uploads/2025/02/Posk-Gallery.jpg
END:VEVENT
BEGIN:VEVENT
DTSTART;TZID=UTC:20250301T100000
DTEND;TZID=UTC:20250327T190000
DTSTAMP:20260420T181020
CREATED:20250227T190217Z
LAST-MODIFIED:20250227T190217Z
UID:8624-1740823200-1743102000@posk.org
SUMMARY:01.03| Ekspozycja w Instytucie Piłsudskiego
DESCRIPTION:W marcu można będzie zobaczyć kilka kolejnych zdjęć Marszałka pochodzących z kolekcji fotograficznej Instytutu\, jak również pozłacaną zapalniczkę\, na której znajduje się profil naszego Patrona oraz dwa papierosy Marszałkowskie.\nDo zobaczenia w Instytucie.
URL:https://posk.org/event/01-03-ekspozycja-w-instytucie-pilsudskiego/
LOCATION:Instytut Piłsudskiego w Londynie
CATEGORIES:Spotkanie
ATTACH;FMTTYPE=image/jpeg:https://posk.org/wp-content/uploads/2025/02/Eksponat-msc-scaled.jpg
END:VEVENT
BEGIN:VEVENT
DTSTART;TZID=UTC:20250301T160000
DTEND;TZID=UTC:20250301T180000
DTSTAMP:20260420T181020
CREATED:20250203T185014Z
LAST-MODIFIED:20250203T185014Z
UID:8300-1740844800-1740852000@posk.org
SUMMARY:01.03| Teatr Syrena: "O dwóch takich co ukradli księżyc"
DESCRIPTION:Teatr Syrena zaprasza wszystkie dzieci na przedstawienie pt. „O Dwóch Takich Co Ukradli Księżyc”. \n  \nSpektakle odbędą się w dniach: 1 i 8 marca – godz. 16.00 \noraz 2 i 9 marca – godz. 13.00 i 16.00 \nBilety: £12 | Grupowe £10 \nRezerwacja Biletów: 07770765983 oraz w Kasie POSK (od 17 lutego) 07495806387 \n  \nTickets
URL:https://posk.org/event/01-03-teatr-syrena-o-dwoch-takich-co-ukradli-ksiezyc/
LOCATION:Teatr POSK\, 238-246 King Street\, London\, W6 0RF\, United Kingdom
CATEGORIES:Teatr & Przedstawienia,Teatr POSK
ATTACH;FMTTYPE=image/jpeg:https://posk.org/wp-content/uploads/2025/02/475800554_1223526323105978_7139281657074398327_n.jpg
END:VEVENT
BEGIN:VEVENT
DTSTART;TZID=UTC:20250301T170000
DTEND;TZID=UTC:20250301T190000
DTSTAMP:20260420T181020
CREATED:20250221T095339Z
LAST-MODIFIED:20250221T124729Z
UID:8563-1740848400-1740855600@posk.org
SUMMARY:01.03| Pokaz filmu dokumentalnego pt. ‘Janusz Guttner wspomina’
DESCRIPTION:Adriana Kulig oraz Janusz Guttner serdecznie zapraszają na pokaz filmu dokumentalnego pt. ‘Janusz Guttner wspomina’.Film jest w języku polskim\, z napisami angielskimi.Po obejrzeniu filmu zapraszamy do rozmowy z bohaterem.1 marca. Sala Orłów godz.: 17.00
URL:https://posk.org/event/01-03-pokaz-filmu-dokumentalnego-pt-janusz-guttner-wspomina/
LOCATION:Sala Orłów\, 238-246 King Street\, London\, W6 0RF\, United Kingdom
CATEGORIES:Kino POSK
ATTACH;FMTTYPE=image/jpeg:https://posk.org/wp-content/uploads/2025/02/480855294_1069423191878571_6381213295440894471_n.jpg
END:VEVENT
BEGIN:VEVENT
DTSTART;TZID=UTC:20250301T170000
DTEND;TZID=UTC:20250301T190000
DTSTAMP:20260420T181020
CREATED:20250221T103027Z
LAST-MODIFIED:20250221T103027Z
UID:8567-1740848400-1740855600@posk.org
SUMMARY:01.03| Screening of the documentary film ‘Janusz Guttner reminisces'
DESCRIPTION:Adriana Kulig and Janusz Guttner cordially invite you to the screening of the documentary film ‘Janusz Guttner reminisces’. \nThe film is in Polish\, with English subtitles. \nAfter watching the film\, we invite you to a conversation with the Artist. \n1 March. Eagles Hall\, 5 pm.
URL:https://posk.org/event/01-03-screening-of-the-documentary-film-janusz-guttner-reminisces/
LOCATION:Sala Orłów\, 238-246 King Street\, London\, W6 0RF\, United Kingdom
CATEGORIES:Kino POSK
ATTACH;FMTTYPE=image/jpeg:https://posk.org/wp-content/uploads/2025/02/480550672_1236562728469004_3424511882323347633_n.jpg
END:VEVENT
BEGIN:VEVENT
DTSTART;TZID=UTC:20250301T180000
DTEND;TZID=UTC:20250301T190000
DTSTAMP:20260420T181020
CREATED:20250227T091933Z
LAST-MODIFIED:20250227T091933Z
UID:8616-1740852000-1740855600@posk.org
SUMMARY:01.03| Londyńskie Spotkania Autorskie
DESCRIPTION:Dariusz Zeller oraz Remi Juśkiewicz serdecznie zapraszają na kolejne Londyńskie Spotkania Autorskie.1 Marcagodz. 18.00Sala Atrium
URL:https://posk.org/event/01-03-londynskie-spotkania-autorskie/
LOCATION:Atrium\, 238-246 King Street\, London\, W6 0RF\, United Kingdom
CATEGORIES:Spotkanie
ATTACH;FMTTYPE=image/jpeg:https://posk.org/wp-content/uploads/2025/02/480979485_1243218761136734_5498780778147250737_n.jpg
END:VEVENT
BEGIN:VEVENT
DTSTART;TZID=UTC:20250301T200000
DTEND;TZID=UTC:20250301T223000
DTSTAMP:20260420T181020
CREATED:20250128T101203Z
LAST-MODIFIED:20250219T110903Z
UID:8241-1740859200-1740868200@posk.org
SUMMARY:01.03| Koncert: Tomasz Zyrmont Quartet
DESCRIPTION:Tomasz Zyrmont Quartet is a groove\, hard bop\, and contemporary jazz quartet delivering highly original music\, complemented by a modern twist on some rare standards composed by jazz masters. This project was founded in London by pianist Tomasz Zyrmont in 2022.\nThe group’s members are highly acclaimed musicians on the London jazz scene\, with experience playing and recording alongside artists such as Azymuth\, Hermeto Pascoal\, Jim Mullen\, Tony Kofi\, Adam Bałdych\, Marcos Valle\, Groove Razors\, Roots Manuva\, Talvin Singh and many others.\nEach member of the quartet has extensive international performing experience\, having graced stages at a wide variety of venues and festivals across countries like Cuba\, Brazil\, France\, Germany\, Italy\, Japan\, Poland\, and the USA. In recent months\, the quartet has performed at Ognisko Polskie\, the 606 Club\, and has begun preparations for recording their original music as a band.\nLine up:\nSean Khan – saxophone\nTomasz Zyrmont – piano\nBen Hazleton – double bass\nFilippo Galli – drums\nTomasz Zyrmont is a London-based pianist and composer\, recognised for his performances at prestigious events such as the London Jazz Festival\, East European Jazz Festival\, Yamaha Music Live\, Wigmore Lates\, and the Jazz FM Discovery Show.\n\nTickets
URL:https://posk.org/event/01-03-koncert-tomasz-zyrmont-quartet/
LOCATION:Jazz Cafe POSK\, 238-246 King Street\, London\, W6 0RF\, United Kingdom
CATEGORIES:Jazz Café,Koncert
ATTACH;FMTTYPE=image/jpeg:https://posk.org/wp-content/uploads/2025/01/480321619_1235651538560123_1988670573716829002_n.jpg
END:VEVENT
END:VCALENDAR