BEGIN:VCALENDAR
VERSION:2.0
PRODID:-//Polski Ośrodek Społeczno-Kulturalny - ECPv6.15.20//NONSGML v1.0//EN
CALSCALE:GREGORIAN
METHOD:PUBLISH
X-WR-CALNAME:Polski Ośrodek Społeczno-Kulturalny
X-ORIGINAL-URL:https://posk.org
X-WR-CALDESC:Wydarzenia dla Polski Ośrodek Społeczno-Kulturalny
REFRESH-INTERVAL;VALUE=DURATION:PT1H
X-Robots-Tag:noindex
X-PUBLISHED-TTL:PT1H
BEGIN:VTIMEZONE
TZID:UTC
BEGIN:STANDARD
TZOFFSETFROM:+0000
TZOFFSETTO:+0000
TZNAME:UTC
DTSTART:20240101T000000
END:STANDARD
END:VTIMEZONE
BEGIN:VEVENT
DTSTART;TZID=UTC:20250301T090000
DTEND;TZID=UTC:20250314T210000
DTSTAMP:20260420T211623
CREATED:20250215T171716Z
LAST-MODIFIED:20250220T094838Z
UID:8547-1740819600-1741986000@posk.org
SUMMARY:01.03| Wystawa w Galerii POSK: sztuka litewska
DESCRIPTION:Wystawa sztuki litewskiej w Wielkiej Brytanii: Międzynarodowy Dzień Kobiet i Dzień Niepodległości Litwy. \nW marcu tego roku sześciu litewskich artystów zjednoczy się w Wielkiej Brytanii\, aby uczcić Międzynarodowy Dzień Kobiet i Dzień Niepodległości Litwy. Prezentując różnorodne style i narracje\, wystawa odzwierciedla litewskie dziedzictwo kulturowe i ewolucję artystyczną. \nEksplorując tematy tożsamości\, wolności i ekspresji\, wystawa jest symbolicznym pomostem kulturowym między Litwą a Wielką Brytanią. Wystawa ta jest świadectwem jedności w różnorodności\, wspierając dialog i uznanie na międzynarodowej scenie artystycznej. \n  \nWstęp wolny!
URL:https://posk.org/event/01-03-wstawa-w-galerii-posk/
LOCATION:Galeria POSK\, 238-246 King Street\, London\, Hammersmith\, W6 0RF\, United Kingdom
CATEGORIES:Sztuka & Wystawy
ATTACH;FMTTYPE=image/jpeg:https://posk.org/wp-content/uploads/2025/02/Posk-Gallery.jpg
END:VEVENT
BEGIN:VEVENT
DTSTART;TZID=UTC:20250301T100000
DTEND;TZID=UTC:20250327T190000
DTSTAMP:20260420T211623
CREATED:20250227T190217Z
LAST-MODIFIED:20250227T190217Z
UID:8624-1740823200-1743102000@posk.org
SUMMARY:01.03| Ekspozycja w Instytucie Piłsudskiego
DESCRIPTION:W marcu można będzie zobaczyć kilka kolejnych zdjęć Marszałka pochodzących z kolekcji fotograficznej Instytutu\, jak również pozłacaną zapalniczkę\, na której znajduje się profil naszego Patrona oraz dwa papierosy Marszałkowskie.\nDo zobaczenia w Instytucie.
URL:https://posk.org/event/01-03-ekspozycja-w-instytucie-pilsudskiego/
LOCATION:Instytut Piłsudskiego w Londynie
CATEGORIES:Spotkanie
ATTACH;FMTTYPE=image/jpeg:https://posk.org/wp-content/uploads/2025/02/Eksponat-msc-scaled.jpg
END:VEVENT
BEGIN:VEVENT
DTSTART;TZID=UTC:20250309T120000
DTEND;TZID=UTC:20250309T133000
DTSTAMP:20260420T211623
CREATED:20250301T105736Z
LAST-MODIFIED:20250301T105736Z
UID:8636-1741521600-1741527000@posk.org
SUMMARY:09.03|Warsztaty Taneczne z Tomaszem Barańskim dla dzieci w wieku 9-14 lat.
DESCRIPTION:Polski Ośrodek Społeczno Kulturalny serdecznie zaprasza na Warsztaty Taneczne z Tomaszem Barańskim dla dzieci w wieku 9-14 lat. 9 Marca Atrium 12.00Bilety w cenie £10 dostepne online: https://rb.gy/ebczsj oraz w recepcji Posku.
URL:https://posk.org/event/09-03warsztaty-taneczne-z-tomaszem-baranskim-dla-dzieci-w-wieku-9-14-lat/
LOCATION:Atrium\, 238-246 King Street\, London\, W6 0RF\, United Kingdom
CATEGORIES:Warsztat
ATTACH;FMTTYPE=image/jpeg:https://posk.org/wp-content/uploads/2025/03/482139446_1244499571008653_1058931677169379506_n.jpg
END:VEVENT
BEGIN:VEVENT
DTSTART;TZID=UTC:20250309T140000
DTEND;TZID=UTC:20250309T153000
DTSTAMP:20260420T211623
CREATED:20250209T113916Z
LAST-MODIFIED:20250214T133609Z
UID:8433-1741528800-1741534200@posk.org
SUMMARY:09.03| Dołącz do nowego Klubu Podróżnika w POSK-u!
DESCRIPTION:Dołącz do nowego Klubu Podróżnika!\nZapraszamy wszystkich miłośników przygód do naszego nowego Klubu Podróżnika w POSK-u! Regularne spotkania zaczynamy od nurkowania z Asią Wyrebek – prawdziwą pasjonatką\, która profesjonalizmem i optymizmem zaraża każdego!\nTo niepowtarzalna okazja\, by zobaczyć podwodny świat\, jakiego na codzień nie mamy szansy doświadczyć.\nPierwsza wyprawa już wkrótce! Dołącz do nas i odkryj piękno nieznanego!\nZapraszamy 9 Marca na godz. 14.00 do Studio Posk! \nWstęp: £5 platne przy wejściu
URL:https://posk.org/event/09-03-dolacz-do-nowego-klubu-podroznika-w-posk-u/
LOCATION:Studio POSK\, 238-246 King Street\, London\, W6 0RF\, United Kingdom
CATEGORIES:Spotkanie
ATTACH;FMTTYPE=image/jpeg:https://posk.org/wp-content/uploads/2025/02/479949129_1232333478891929_6709739520666301378_n.jpg
END:VEVENT
BEGIN:VEVENT
DTSTART;TZID=UTC:20250309T160000
DTEND;TZID=UTC:20250309T180000
DTSTAMP:20260420T211623
CREATED:20250203T185822Z
LAST-MODIFIED:20250203T185822Z
UID:8308-1741536000-1741543200@posk.org
SUMMARY:09.03| Teatr Syrena: "O dwóch takich co ukradli księżyc"
DESCRIPTION:Teatr Syrena zaprasza wszystkie dzieci na przedstawienie pt. „O Dwóch Takich Co Ukradli Księżyc”. \n  \nSpektakle odbędą się w dniach: 1 i 8 marca – godz. 16.00 \noraz 2 i 9 marca – godz. 13.00 i 16.00 \nBilety: £12 | Grupowe £10 \nRezerwacja Biletów: 07770765983 oraz w Kasie POSK (od 17 lutego) 07495806387 \nBilety
URL:https://posk.org/event/09-03-teatr-syrena-o-dwoch-takich-co-ukradli-ksiezyc/
LOCATION:Teatr POSK\, 238-246 King Street\, London\, W6 0RF\, United Kingdom
CATEGORIES:Teatr & Przedstawienia,Teatr POSK
ATTACH;FMTTYPE=image/jpeg:https://posk.org/wp-content/uploads/2025/02/475800554_1223526323105978_7139281657074398327_n.jpg
END:VEVENT
END:VCALENDAR