BEGIN:VCALENDAR
VERSION:2.0
PRODID:-//Polski Ośrodek Społeczno-Kulturalny - ECPv6.15.20//NONSGML v1.0//EN
CALSCALE:GREGORIAN
METHOD:PUBLISH
X-ORIGINAL-URL:https://posk.org
X-WR-CALDESC:Wydarzenia dla Polski Ośrodek Społeczno-Kulturalny
REFRESH-INTERVAL;VALUE=DURATION:PT1H
X-Robots-Tag:noindex
X-PUBLISHED-TTL:PT1H
BEGIN:VTIMEZONE
TZID:Europe/London
BEGIN:DAYLIGHT
TZOFFSETFROM:+0000
TZOFFSETTO:+0100
TZNAME:BST
DTSTART:20240331T010000
END:DAYLIGHT
BEGIN:STANDARD
TZOFFSETFROM:+0100
TZOFFSETTO:+0000
TZNAME:GMT
DTSTART:20241027T010000
END:STANDARD
BEGIN:DAYLIGHT
TZOFFSETFROM:+0000
TZOFFSETTO:+0100
TZNAME:BST
DTSTART:20250330T010000
END:DAYLIGHT
BEGIN:STANDARD
TZOFFSETFROM:+0100
TZOFFSETTO:+0000
TZNAME:GMT
DTSTART:20251026T010000
END:STANDARD
BEGIN:DAYLIGHT
TZOFFSETFROM:+0000
TZOFFSETTO:+0100
TZNAME:BST
DTSTART:20260329T010000
END:DAYLIGHT
BEGIN:STANDARD
TZOFFSETFROM:+0100
TZOFFSETTO:+0000
TZNAME:GMT
DTSTART:20261025T010000
END:STANDARD
END:VTIMEZONE
BEGIN:VTIMEZONE
TZID:UTC
BEGIN:STANDARD
TZOFFSETFROM:+0000
TZOFFSETTO:+0000
TZNAME:UTC
DTSTART:20240101T000000
END:STANDARD
END:VTIMEZONE
BEGIN:VEVENT
DTSTART;TZID=Europe/London:20250902T110000
DTEND;TZID=Europe/London:20250930T190000
DTSTAMP:20260419T173956
CREATED:20250829T173928Z
LAST-MODIFIED:20250906T155629Z
UID:9888-1756810800-1759258800@posk.org
SUMMARY:02.09| Obiekt miesiąca w Instytucie Piłsudskiego
DESCRIPTION:EKSPONAT MIESIĄCA W INSTYTUCIE PIŁSUDSKIEGO\n\n\nOd 1 września zapraszamy na Eksponat Miesiąca – Dokument potwierdzający przyjęcie Juliusza Chrząstowskiego do Szkoły Podchorążych Piechoty\, pochodzący z archiwum Instytutu Piłsudskiego w Londynie. Uczniom zaczynającym rok szkolny życzymy aby był pełen inspiracji\, odkryć i radości z nauki.\n\n\n  \n  \nInstytut czynny jest we wtorki i czwartki\, w godz: 11:00 – 19:00\, oraz w pierwszą sobotę miesiąca. \nWstęp wolny!
URL:https://posk.org/event/02-09-obiekt-miesiaca-w-instytucie-pilsudskiego/
LOCATION:Instytut Piłsudskiego w Londynie
CATEGORIES:Spotkanie
ATTACH;FMTTYPE=image/jpeg:https://posk.org/wp-content/uploads/2025/08/IMG_5850.jpg
END:VEVENT
BEGIN:VEVENT
DTSTART;TZID=Europe/London:20250907T100000
DTEND;TZID=Europe/London:20250919T210000
DTSTAMP:20260419T173956
CREATED:20250829T102859Z
LAST-MODIFIED:20250829T102859Z
UID:9874-1757239200-1758315600@posk.org
SUMMARY:07.09| Wystawa w Galerii POSK: Joanna Ciechanowska & Ryszard Rybicki
DESCRIPTION:Otwarcie wystawy: 9 września\, godz. 18:00. \n  \nWstęp wolny!
URL:https://posk.org/event/07-09-wystawa-w-galerii-posk-joanna-ciechanowska-ryszard-rybicki/
LOCATION:Galeria POSK\, 238-246 King Street\, London\, Hammersmith\, W6 0RF\, United Kingdom
CATEGORIES:Sztuka & Wystawy
ATTACH;FMTTYPE=image/jpeg:https://posk.org/wp-content/uploads/2025/08/gal.jpg
END:VEVENT
BEGIN:VEVENT
DTSTART;TZID=UTC:20250918T200000
DTEND;TZID=UTC:20250918T213000
DTSTAMP:20260419T173956
CREATED:20250630T082703Z
LAST-MODIFIED:20250630T082703Z
UID:9404-1758225600-1758231000@posk.org
SUMMARY:18.09| Wykład z historii sztuki w j. angielskim
DESCRIPTION:Painting in Ukraine and Russia 1860 to 1960: Tradition\, Experiment\, Repression – lecture by Gabriel ChananIn the midst of its traumatic struggle\, Ukraine is trying to protect its art and reclaim its heritage. But Russian and Ukrainian art were intermingled for 250 years. ‘Russification’ concealed the Ukrainian origins and identity of many artists\, both under the Tsars and the Bolsheviks. With a wealth of illustrations\, this lecture maps three consecutive revolutions in style\, as painters in both Ukraine and Russia experimented with social criticism\, then modernism\, and then confronted Soviet conformity. This outline of a dynamic century includes superb painters little known in the west as well as others who became key figures in modernism. 18 September 8.00 pmMore info: theartssocietychiswick.org.uk
URL:https://posk.org/event/18-09-wyklad-z-historii-sztuki-w-j-angielskim/
LOCATION:Sala Malinowa
CATEGORIES:Spotkanie
ATTACH;FMTTYPE=image/jpeg:https://posk.org/wp-content/uploads/2025/06/514341909_1357487423043200_3904888062179738869_n.jpg
END:VEVENT
END:VCALENDAR