BEGIN:VCALENDAR
VERSION:2.0
PRODID:-//Polski Ośrodek Społeczno-Kulturalny - ECPv6.15.20//NONSGML v1.0//EN
CALSCALE:GREGORIAN
METHOD:PUBLISH
X-WR-CALNAME:Polski Ośrodek Społeczno-Kulturalny
X-ORIGINAL-URL:https://posk.org
X-WR-CALDESC:Wydarzenia dla Polski Ośrodek Społeczno-Kulturalny
REFRESH-INTERVAL;VALUE=DURATION:PT1H
X-Robots-Tag:noindex
X-PUBLISHED-TTL:PT1H
BEGIN:VTIMEZONE
TZID:Europe/London
BEGIN:DAYLIGHT
TZOFFSETFROM:+0000
TZOFFSETTO:+0100
TZNAME:BST
DTSTART:20240331T010000
END:DAYLIGHT
BEGIN:STANDARD
TZOFFSETFROM:+0100
TZOFFSETTO:+0000
TZNAME:GMT
DTSTART:20241027T010000
END:STANDARD
BEGIN:DAYLIGHT
TZOFFSETFROM:+0000
TZOFFSETTO:+0100
TZNAME:BST
DTSTART:20250330T010000
END:DAYLIGHT
BEGIN:STANDARD
TZOFFSETFROM:+0100
TZOFFSETTO:+0000
TZNAME:GMT
DTSTART:20251026T010000
END:STANDARD
BEGIN:DAYLIGHT
TZOFFSETFROM:+0000
TZOFFSETTO:+0100
TZNAME:BST
DTSTART:20260329T010000
END:DAYLIGHT
BEGIN:STANDARD
TZOFFSETFROM:+0100
TZOFFSETTO:+0000
TZNAME:GMT
DTSTART:20261025T010000
END:STANDARD
END:VTIMEZONE
BEGIN:VTIMEZONE
TZID:UTC
BEGIN:STANDARD
TZOFFSETFROM:+0000
TZOFFSETTO:+0000
TZNAME:UTC
DTSTART:20240101T000000
END:STANDARD
END:VTIMEZONE
BEGIN:VEVENT
DTSTART;TZID=Europe/London:20250902T110000
DTEND;TZID=Europe/London:20250930T190000
DTSTAMP:20260419T173628
CREATED:20250829T173928Z
LAST-MODIFIED:20250906T155629Z
UID:9888-1756810800-1759258800@posk.org
SUMMARY:02.09| Obiekt miesiąca w Instytucie Piłsudskiego
DESCRIPTION:EKSPONAT MIESIĄCA W INSTYTUCIE PIŁSUDSKIEGO\n\n\nOd 1 września zapraszamy na Eksponat Miesiąca – Dokument potwierdzający przyjęcie Juliusza Chrząstowskiego do Szkoły Podchorążych Piechoty\, pochodzący z archiwum Instytutu Piłsudskiego w Londynie. Uczniom zaczynającym rok szkolny życzymy aby był pełen inspiracji\, odkryć i radości z nauki.\n\n\n  \n  \nInstytut czynny jest we wtorki i czwartki\, w godz: 11:00 – 19:00\, oraz w pierwszą sobotę miesiąca. \nWstęp wolny!
URL:https://posk.org/event/02-09-obiekt-miesiaca-w-instytucie-pilsudskiego/
LOCATION:Instytut Piłsudskiego w Londynie
CATEGORIES:Spotkanie
ATTACH;FMTTYPE=image/jpeg:https://posk.org/wp-content/uploads/2025/08/IMG_5850.jpg
END:VEVENT
BEGIN:VEVENT
DTSTART;TZID=Europe/London:20250921T100000
DTEND;TZID=Europe/London:20251002T210000
DTSTAMP:20260419T173628
CREATED:20250901T084207Z
LAST-MODIFIED:20250901T084207Z
UID:9907-1758448800-1759438800@posk.org
SUMMARY:21.09| Wystawa w Galerii POSK: River Threads
DESCRIPTION:Artyści działający w Carousel Textile Artist zapraszają na wystawę pt. „River Threads. Stories from the Thames”\, Part 2. \nWstęp wolny.
URL:https://posk.org/event/21-09-wystawa-w-galerii-posk-river-threads/
LOCATION:Galeria POSK\, 238-246 King Street\, London\, Hammersmith\, W6 0RF\, United Kingdom
CATEGORIES:Sztuka & Wystawy
ATTACH;FMTTYPE=image/jpeg:https://posk.org/wp-content/uploads/2025/09/gal.jpg
END:VEVENT
BEGIN:VEVENT
DTSTART;TZID=UTC:20250928T120000
DTEND;TZID=UTC:20250928T170000
DTSTAMP:20260419T173628
CREATED:20250617T075705Z
LAST-MODIFIED:20250912T084324Z
UID:9296-1759060800-1759078800@posk.org
SUMMARY:28.09| Polonus: Festiwal Młodych Talentów
DESCRIPTION:Zapraszamy na IV edycję Festiwalu Młodych Talentów „Polonus” 2025 organizowanego przez Grupę Artystyczną Piwnica Pod Big Benem\, Polską Macierz Szkolną oraz Szkołę Przedmiotów Ojczystych im. Mikołaja Reja. 28 września 12.00\, Sala teatralna POSK
URL:https://posk.org/event/28-09-polonus-festiwal-mlodych-talentow/
LOCATION:Teatr POSK\, 238-246 King Street\, London\, W6 0RF\, United Kingdom
CATEGORIES:Spotkanie
ATTACH;FMTTYPE=image/jpeg:https://posk.org/wp-content/uploads/2025/06/546180605_1427996345992307_4908774448371646966_n.jpg
END:VEVENT
BEGIN:VEVENT
DTSTART;TZID=UTC:20250928T180000
DTEND;TZID=UTC:20250928T193000
DTSTAMP:20260419T173628
CREATED:20250803T142302Z
LAST-MODIFIED:20250804T072421Z
UID:9633-1759082400-1759087800@posk.org
SUMMARY:28.09| Przeboje Anny Jantar
DESCRIPTION:Zapraszamy na wyjątkowy koncert poświęcony niezapomnianym przebojom Anny Jantar – jednej z największych ikon polskiej sceny muzycznej.\nTo wieczór pełen wzruszeń\, wspomnień i pięknej muzyki – idealna okazja\, by na nowo odkryć magię utworów Anny Jantar. Niech te melodie przypomną nam\, jak wiele słońca może być w każdym mieście\, sercu i wspomnieniu.\n  \nBilety \n  \n 
URL:https://posk.org/event/28-09-przeboje-anny-jantar/
LOCATION:Studio POSK\, 238-246 King Street\, London\, W6 0RF\, United Kingdom
CATEGORIES:Koncert
ATTACH;FMTTYPE=image/jpeg:https://posk.org/wp-content/uploads/2025/08/528380085_1390811386377470_5047259457667131186_n.jpg
END:VEVENT
END:VCALENDAR