BEGIN:VCALENDAR
VERSION:2.0
PRODID:-//Polski Ośrodek Społeczno-Kulturalny - ECPv6.15.20//NONSGML v1.0//EN
CALSCALE:GREGORIAN
METHOD:PUBLISH
X-WR-CALNAME:Polski Ośrodek Społeczno-Kulturalny
X-ORIGINAL-URL:https://posk.org
X-WR-CALDESC:Wydarzenia dla Polski Ośrodek Społeczno-Kulturalny
REFRESH-INTERVAL;VALUE=DURATION:PT1H
X-Robots-Tag:noindex
X-PUBLISHED-TTL:PT1H
BEGIN:VTIMEZONE
TZID:Europe/London
BEGIN:DAYLIGHT
TZOFFSETFROM:+0000
TZOFFSETTO:+0100
TZNAME:BST
DTSTART:20240331T010000
END:DAYLIGHT
BEGIN:STANDARD
TZOFFSETFROM:+0100
TZOFFSETTO:+0000
TZNAME:GMT
DTSTART:20241027T010000
END:STANDARD
BEGIN:DAYLIGHT
TZOFFSETFROM:+0000
TZOFFSETTO:+0100
TZNAME:BST
DTSTART:20250330T010000
END:DAYLIGHT
BEGIN:STANDARD
TZOFFSETFROM:+0100
TZOFFSETTO:+0000
TZNAME:GMT
DTSTART:20251026T010000
END:STANDARD
BEGIN:DAYLIGHT
TZOFFSETFROM:+0000
TZOFFSETTO:+0100
TZNAME:BST
DTSTART:20260329T010000
END:DAYLIGHT
BEGIN:STANDARD
TZOFFSETFROM:+0100
TZOFFSETTO:+0000
TZNAME:GMT
DTSTART:20261025T010000
END:STANDARD
END:VTIMEZONE
BEGIN:VEVENT
DTSTART;TZID=Europe/London:20251002T110000
DTEND;TZID=Europe/London:20251030T190000
DTSTAMP:20260419T182926
CREATED:20250927T191349Z
LAST-MODIFIED:20250927T191349Z
UID:10183-1759402800-1761850800@posk.org
SUMMARY:02.10| Obiekt miesiąca w Instytucie Piłsudskiego
DESCRIPTION:Serdecznie zapraszamy do odwiedzenia Instytutu Piłsudskiego w Londynie już od 1 października\, aby obejrzeć wyjątkową kolekcję płaskorzeźb autorstwa W. Błażejewskiego. \nPrezentowane dzieła pochodzą ze zbiorów archiwalnych naszego Instytutu i stanowią eksponat miesiąca. To doskonała okazja\, aby zapoznać się z unikatową twórczością oraz bogactwem naszej kolekcji historycznej. \nZapraszamy do Instytutu w każdy wtorek i czwartek od 11:00 do 19:00 oraz każdą pierwszą sobote miesiaca od 11:00 do 15:00.
URL:https://posk.org/event/02-10-obiekt-miesiaca-w-instytucie-pilsudskiego/
LOCATION:Instytut Piłsudskiego w Londynie
CATEGORIES:Spotkanie
ATTACH;FMTTYPE=image/jpeg:https://posk.org/wp-content/uploads/2025/09/Pazdziernik-scaled.jpg
END:VEVENT
BEGIN:VEVENT
DTSTART;TZID=Europe/London:20251021T100000
DTEND;TZID=Europe/London:20251022T210000
DTSTAMP:20260419T182926
CREATED:20250915T093331Z
LAST-MODIFIED:20251010T104135Z
UID:10079-1761040800-1761166800@posk.org
SUMMARY:21.10| Konferencja międzynarodowa: Granice wolności. Maria Pawlikowska-Jasnorzewska: życie\, twórczość\, recepcja
DESCRIPTION:21–22 października 2025 r. (wtorek–środa)\nKonferencja międzynarodowa: Granice wolności. Maria Pawlikowska-Jasnorzewska: życie\, twórczość\, recepcja\nOrganizatorzy: PUNO\, ZPPnO\, Uniwersytet Kazimierza Wielkiego w Bydgoszczy \nDzień I – 21 października (wtorek)\nPOSK\, Sala Multimedialna\, godz. 10:15–16:30 \n\nczęść artystyczna do godz. 19:00\n\nDzień II – 22 października (środa)\nPOSK\, Sala Multimedialna / online\, godz. 9:00–18:45 \n21–22 października 2025\nSala Multimedialna POSK\, Londyn / ZOOM \nSerdecznie zapraszamy do udziału w międzynarodowej konferencji naukowej poświęconej Marii Pawlikowskiej-Jasnorzewskiej – jednej z najważniejszych polskich poetek XX wieku\, nazywanej „polską Safoną”. \nSpotkanie\, organizowane w Roku Marii Pawlikowskiej-Jasnorzewskiej\, w 80. rocznicę jej śmierci\, stanie się przestrzenią refleksji nad miejscem autorki w kanonie literatury polskiej oraz nad aktualnością jej poetyki i postawy artystycznej. Tytułowe „granice wolności” prowadzą uczestników przez biograficzne i artystyczne doświadczenia poetki – od wygnania i samotności po śmiałe przekraczanie norm obyczajowych i estetycznych. \nDwa intensywne dni obrad (pierwszy w formule hybrydowej\, drugi w dwóch równoległych panelach – online i stacjonarnym w Londynie) poświęcone będą życiu\, twórczości i recepcji Pawlikowskiej-Jasnorzewskiej – artystki\, która łączyła słowo i obraz\, lirykę i eksperyment\, sztukę i wolność. \nPodczas dwóch dni obrad wystąpi blisko czterdziestu prelegentów z Polski\, Wielkiej Brytanii i innych krajów\, reprezentujących różne ośrodki akademickie i instytucje kultury. \nWśród zaproszonych gości znajdą się wybitni badacze literatury\, tłumacze\, muzealnicy i pisarze – osoby od lat zajmujące się twórczością Marii Pawlikowskiej-Jasnorzewskiej oraz kontekstami jej życia\, recepcji i spuścizny. \nWystąpią m.in.:\nprof. Nina Taylor-Terlecka (University of Oxford) – o relacjach poetki z Tymonem Terleckim\,\nAnna Nasiłowska (Instytut Badań Literackich PAN) – o aktualnych tematach w twórczości Pawlikowskiej-Jasnorzewskiej\,\nBarbara Bogoczek (Translators Association\, Society of Authors) i Tony Howard (Warwick University) – o angielskich przekładach jej poezji\,\nMałgorzata Wichowska i Katarzyna Jakimiak (Muzeum Literatury im. A. Mickiewicza w Warszawie) – o spuściźnie poetki w zbiorach muzealnych\,\nTatiana Czerska (Uniwersytet Szczeciński) i Agnieszka Stabro (Stowarzyszenie Pisarzy Polskich\, Oddział Warszawa) – o cielesności\, chorobie i duchowych zapiskach autorki\,\nBeata Morzyńska-Wrzosek\, Jakub Osiński i Jan Zięba – o granicach wolności\, samotności i egzystencjalnych wymiarach poezji\,\nMichał Ceglarek\, Joanna Warońska-Gęsiarz i Marta Cebera – o teatralnych interpretacjach dramatów Baba-Dziwo i Mrówki\,\nRafał Podraza i Hubert Foltyński – o wspomnieniach i zapiskach poetki\,\nJoanna Kulczyńska-Kruk i Jolanta Chwastyk-Kowalczyk – o Krakowie i emigracyjnej recepcji autorki\,\nTomasz Kunicki-Goldfinger\, Ewelina Suszek i Beata Trojanowska – o duchowych i zmysłowych wymiarach wczesnej i późnej poezji\,\nDorota Wojda\, Alicja Kropidłowska i Katarzyna Kuczyńska-Koschany – o ekopoetykach\, cielesności i dialogu poetki z Tuwimem\,\nRegina Wasiak-Taylor – z refleksją „Lilka modna”. \nWśród uczestników znajdą się również przedstawiciele młodego pokolenia badaczy – z Uniwersytetu Jagiellońskiego\, Uniwersytetu Warszawskiego\, Uniwersytetu Kazimierza Wielkiego\, Uniwersytetu im. Adama Mickiewicza\, Uniwersytetu Wrocławskiego\, Uniwersytetu Gdańskiego\, Uniwersytetu Jana Długosza\, Akademii Tarnowskiej\, Uniwersytetu Bielsko-Bialskiego i innych ośrodków. \nKonferencji towarzyszyć będą pokaz filmu „Lilka. Opowieść o Marii Pawlikowskiej-Jasnorzewskiej” w reżyserii Małgorzaty Frymus (z udziałem prof. Elżbiety Hurnikowej\, Rafała Podrazy\, Anny Januszewskiej i Krzysztofa Baranowskiego) oraz część artystyczna kończąca pierwszy dzień obrad.
URL:https://posk.org/event/21-10-konferencja-miedzynarodowa-granice-wolnosci-maria-pawlikowska-jasnorzewska-zycie-tworczosc-recepcja/
LOCATION:Sala Multimedialna 4 piętro
CATEGORIES:Spotkanie,Wykład
ATTACH;FMTTYPE=image/jpeg:https://posk.org/wp-content/uploads/2025/09/0b2157b4-e001-44dc-b95b-b2e8dbb8318f.jpeg
END:VEVENT
BEGIN:VEVENT
DTSTART;TZID=Europe/London:20251021T173000
DTEND;TZID=Europe/London:20251021T190000
DTSTAMP:20260419T182926
CREATED:20251013T093317Z
LAST-MODIFIED:20251013T093347Z
UID:10335-1761067800-1761073200@posk.org
SUMMARY:21.10| Rok Marii Pawlikowskiej- Jasnorzewskiej. Program poetycko-muzyczny
DESCRIPTION:Rok Marii Pawlikowskiej-Jasnorzewskiej zbliża się do końcowej fazy celebracji\, która ma swoje odsłony w Kraju i w Anglii.W czasie trwania dwudniowej konferencji naukowej w POSK-u poświęconej poetce 21-22 października 2025\, przygotowaliśmy dla Państwa program poetycko-muzyczny z udziałem znakomitego zespołu artystycznego.Zapraszamy!
URL:https://posk.org/event/21-10-rok-marii-pawlikowskiej-jasnorzewskiej-program-poetycko-muzyczny/
LOCATION:Sala Multimedialna 4 piętro
CATEGORIES:Spotkanie
ATTACH;FMTTYPE=image/jpeg:https://posk.org/wp-content/uploads/2025/10/559074613_1258862126268009_8287404959441313650_n.jpg
END:VEVENT
BEGIN:VEVENT
DTSTART;TZID=Europe/London:20251021T183000
DTEND;TZID=Europe/London:20251021T200000
DTSTAMP:20260419T182926
CREATED:20251008T101355Z
LAST-MODIFIED:20251008T101355Z
UID:10298-1761071400-1761076800@posk.org
SUMMARY:21.10|Jak dwujęzyczność wpływa na nasze myślenie i postrzeganie świata? Spotkanie z Jagodą Ratajczak
DESCRIPTION:Biblioteka Polska POSK w Londynie zaprasza na spotkanie z Jagodą Ratajczak – filolożką\, tłumaczką przysięgłą i konferencyjną\, członkinią Polskiego Towarzystwa Tłumaczy Przysięgłych i Specjalistycznych TEPIS. \nWydarzenie odbędzie się 21 października o godz. 18.30\, w Sali Orłów POSK. \n  \nJak dwujęzyczność wpływa na nasze myślenie i postrzeganie świata? Czy i jak kształtuje nasze doświadczenia\, co nam uświadamia na temat języka? Z jakimi wyzwaniami wiąże się nauka języka obcego i co proces jego przyswajania może nam powiedzieć o nas i naszych przekonaniach? Skąd biorą się niezadowolenie lub zawstydzenie swoimi umiejętnościami językowymi i jak się z nimi zmierzyć? \nJak dwujęzyczność wpływa na nasze myślenie i postrzeganie świata? Czy i jak kształtuje nasze doświadczenia\, co nam uświadamia na temat języka? Z jakimi wyzwaniami wiąże się nauka języka obcego i co proces jego przyswajania może nam powiedzieć o nas i naszych przekonaniach? Skąd biorą się niezadowolenie lub zawstydzenie swoimi umiejętnościami językowymi i jak się z nimi zmierzyć? \nJagoda Ratajczak: filolożka\, tłumaczka przysięgła i konferencyjna\, członkini Polskiego Towarzystwa Tłumaczy Przysięgłych i Specjalistycznych TEPIS. Absolwentka Wydziału Anglistyki Uniwersytetu im. Adama Mickiewicza. \nAutorka książek: Języczni. Co język robi naszej głowie oraz Luka. Jak wstyd i lęk dziurawią nam język. \n  \nWstęp wolny.
URL:https://posk.org/event/21-10jak-dwujezycznosc-wplywa-na-nasze-myslenie-i-postrzeganie-swiata-spotkanie-z-jagoda-ratajczak/
LOCATION:Sala Orłów\, 238-246 King Street\, London\, W6 0RF\, United Kingdom
CATEGORIES:Spotkanie
ATTACH;FMTTYPE=image/jpeg:https://posk.org/wp-content/uploads/2025/10/557467195_1389349036527343_6459751936970454935_n.jpg
END:VEVENT
BEGIN:VEVENT
DTSTART;TZID=Europe/London:20251021T200000
DTEND;TZID=Europe/London:20251021T210000
DTSTAMP:20260419T182926
CREATED:20251014T155542Z
LAST-MODIFIED:20251014T155542Z
UID:10353-1761076800-1761080400@posk.org
SUMMARY:21.10| Taniec towarzyski dla początkujących
DESCRIPTION:Taniec Towarzyski dla początkujących z Krzysztofem i Natalią.Wtorki o godzinie 20.00Więcej informacji: www.krystofnatalia.co.uk
URL:https://posk.org/event/21-10-taniec-towarzyski-dla-poczatkujacych/
LOCATION:POSK\, 238-246 King Street\, London\, London\, W6 0RF\, United Kingdom
CATEGORIES:Spotkanie
ATTACH;FMTTYPE=image/jpeg:https://posk.org/wp-content/uploads/2025/10/563456043_1460578129400795_8673392155444469789_n.jpg
END:VEVENT
END:VCALENDAR