BEGIN:VCALENDAR
VERSION:2.0
PRODID:-//Polski Ośrodek Społeczno-Kulturalny - ECPv6.15.20//NONSGML v1.0//EN
CALSCALE:GREGORIAN
METHOD:PUBLISH
X-WR-CALNAME:Polski Ośrodek Społeczno-Kulturalny
X-ORIGINAL-URL:https://posk.org
X-WR-CALDESC:Wydarzenia dla Polski Ośrodek Społeczno-Kulturalny
REFRESH-INTERVAL;VALUE=DURATION:PT1H
X-Robots-Tag:noindex
X-PUBLISHED-TTL:PT1H
BEGIN:VTIMEZONE
TZID:Europe/London
BEGIN:DAYLIGHT
TZOFFSETFROM:+0000
TZOFFSETTO:+0100
TZNAME:BST
DTSTART:20240331T010000
END:DAYLIGHT
BEGIN:STANDARD
TZOFFSETFROM:+0100
TZOFFSETTO:+0000
TZNAME:GMT
DTSTART:20241027T010000
END:STANDARD
BEGIN:DAYLIGHT
TZOFFSETFROM:+0000
TZOFFSETTO:+0100
TZNAME:BST
DTSTART:20250330T010000
END:DAYLIGHT
BEGIN:STANDARD
TZOFFSETFROM:+0100
TZOFFSETTO:+0000
TZNAME:GMT
DTSTART:20251026T010000
END:STANDARD
BEGIN:DAYLIGHT
TZOFFSETFROM:+0000
TZOFFSETTO:+0100
TZNAME:BST
DTSTART:20260329T010000
END:DAYLIGHT
BEGIN:STANDARD
TZOFFSETFROM:+0100
TZOFFSETTO:+0000
TZNAME:GMT
DTSTART:20261025T010000
END:STANDARD
BEGIN:DAYLIGHT
TZOFFSETFROM:+0000
TZOFFSETTO:+0100
TZNAME:BST
DTSTART:20270328T010000
END:DAYLIGHT
BEGIN:STANDARD
TZOFFSETFROM:+0100
TZOFFSETTO:+0000
TZNAME:GMT
DTSTART:20271031T010000
END:STANDARD
END:VTIMEZONE
BEGIN:VEVENT
DTSTART;TZID=Europe/London:20251023T100000
DTEND;TZID=Europe/London:20260131T190000
DTSTAMP:20260421T093417
CREATED:20251023T085744Z
LAST-MODIFIED:20260108T095811Z
UID:10494-1761213600-1769886000@posk.org
SUMMARY:23.10| Wystawa Biblioteki Polskiej: 1945. Koniec wojny?
DESCRIPTION:Biblioteka Polska POSK w Londynie zaprasza do odwiedzenia wystawy „1945. Koniec wojny? 1945. The End of the War?”. \nWystawa prezentowana jest w wersji dwujęzycznej w Sali Orłów. \nWstęp wolny.
URL:https://posk.org/event/23-10-wystawa-biblioteki-polskiej-1945-koniec-wojny/
LOCATION:Sala Orłów\, 238-246 King Street\, London\, W6 0RF\, United Kingdom
CATEGORIES:Sztuka & Wystawy,Wydarzenie Biblioteki Polskiej POSK
ATTACH;FMTTYPE=image/jpeg:https://posk.org/wp-content/uploads/2025/10/KONIEC_WOJNY_New-FB.jpg
END:VEVENT
BEGIN:VEVENT
DTSTART;TZID=Europe/London:20251104T100000
DTEND;TZID=Europe/London:20251130T190000
DTSTAMP:20260421T093417
CREATED:20251105T101919Z
LAST-MODIFIED:20251105T101919Z
UID:10555-1762250400-1764529200@posk.org
SUMMARY:04.11| Listopad w Instytucie Piłsudskiego: portret Aleksandry Piłsudskiej
DESCRIPTION:Instytut Józefa Piłsudskiego w Londynie serdecznie zaprasza do odwiedzin i zapoznania się z Eksponatem Miesiąca. \nW listopadzie prezentujemy wyjątkowe dzieło ze zbiorów Instytutu — portret Aleksandry Piłsudskiej z roku 1950\, autorstwa Kazimierza Pacewicza. \nTen niezwykły obraz\, ukazujący żonę Marszałka Józefa Piłsudskiego\, stanowi cenny element naszej kolekcji\, przypominając o patriotycznym zaangażowaniu i działalności społecznej Aleksandry Piłsudskiej na emigracji. \nInstytut Józefa Piłsudskiego w Londynie \nZapraszamy w godzinach otwarcia Instytutu Odwiedź nas i odkryj historię zamkniętą w portrecie! \nZapraszamy do Instytutu w każdy wtorek i czwartek od 11:00 do 19:00 oraz każdą pierwszą sobotę miesiąca od 11:00 do 15:00. \nWstęp wolny! \n 
URL:https://posk.org/event/04-11-listopad-w-instytucie-pilsudskiego-portret-aleksandry-pilsudskiej/
LOCATION:Instytut Piłsudskiego w Londynie
CATEGORIES:Spotkanie
ATTACH;FMTTYPE=image/jpeg:https://posk.org/wp-content/uploads/2025/11/Listopad-2025-scaled.jpg
END:VEVENT
BEGIN:VEVENT
DTSTART;TZID=Europe/London:20251114T200000
DTEND;TZID=Europe/London:20251114T223000
DTSTAMP:20260421T093417
CREATED:20251014T173401Z
LAST-MODIFIED:20251028T091600Z
UID:10388-1763150400-1763159400@posk.org
SUMMARY:14.11| Koncert jazzowy: The Big Colors Big Band
DESCRIPTION:IG COLORS BIG BAND PLAYS MID-CENTURY COOL!The Big Colors Big Band featuring Brandon Allen\, Mark Armstrong\, Jakub Klimiuk\, Kate Williams and Special Guest vocalist\, Jo Harrop!Mid-Century Cool – the music of Miles Davis\, Charles Mingus\, John Coltrane and more!.. 14 November Tickets and more info: jazzcafeposk.org
URL:https://posk.org/event/14-11-koncert-jazzowy-the-big-colors-big-band/
LOCATION:Jazz Cafe POSK\, 238-246 King Street\, London\, W6 0RF\, United Kingdom
CATEGORIES:Jazz Café,Koncert
ATTACH;FMTTYPE=image/jpeg:https://posk.org/wp-content/uploads/2025/10/571122108_1471701138288494_8762877963042786466_n.jpg
END:VEVENT
END:VCALENDAR