BEGIN:VCALENDAR
VERSION:2.0
PRODID:-//Polski Ośrodek Społeczno-Kulturalny - ECPv6.15.20//NONSGML v1.0//EN
CALSCALE:GREGORIAN
METHOD:PUBLISH
X-WR-CALNAME:Polski Ośrodek Społeczno-Kulturalny
X-ORIGINAL-URL:https://posk.org
X-WR-CALDESC:Wydarzenia dla Polski Ośrodek Społeczno-Kulturalny
REFRESH-INTERVAL;VALUE=DURATION:PT1H
X-Robots-Tag:noindex
X-PUBLISHED-TTL:PT1H
BEGIN:VTIMEZONE
TZID:Europe/London
BEGIN:DAYLIGHT
TZOFFSETFROM:+0000
TZOFFSETTO:+0100
TZNAME:BST
DTSTART:20250330T010000
END:DAYLIGHT
BEGIN:STANDARD
TZOFFSETFROM:+0100
TZOFFSETTO:+0000
TZNAME:GMT
DTSTART:20251026T010000
END:STANDARD
BEGIN:DAYLIGHT
TZOFFSETFROM:+0000
TZOFFSETTO:+0100
TZNAME:BST
DTSTART:20260329T010000
END:DAYLIGHT
BEGIN:STANDARD
TZOFFSETFROM:+0100
TZOFFSETTO:+0000
TZNAME:GMT
DTSTART:20261025T010000
END:STANDARD
BEGIN:DAYLIGHT
TZOFFSETFROM:+0000
TZOFFSETTO:+0100
TZNAME:BST
DTSTART:20270328T010000
END:DAYLIGHT
BEGIN:STANDARD
TZOFFSETFROM:+0100
TZOFFSETTO:+0000
TZNAME:GMT
DTSTART:20271031T010000
END:STANDARD
END:VTIMEZONE
BEGIN:VEVENT
DTSTART;TZID=Europe/London:20260222T100000
DTEND;TZID=Europe/London:20260415T200000
DTSTAMP:20260420T123500
CREATED:20260220T110145Z
LAST-MODIFIED:20260325T111218Z
UID:11444-1771754400-1776283200@posk.org
SUMMARY:22.03| Wystawa dwujęzyczna: Wołyń. Ofiary\, relacje\, miejsca pamięci
DESCRIPTION:  \nWystawa w Sali Orłów. \nWstęp wolny.
URL:https://posk.org/event/22-03-wystawa-dwujezyczna-wolyn-ofiary-relacje-miejsca-pamieci/
LOCATION:Sala Orłów\, 238-246 King Street\, London\, W6 0RF\, United Kingdom
CATEGORIES:Wydarzenie Biblioteki Polskiej POSK
ATTACH;FMTTYPE=image/jpeg:https://posk.org/wp-content/uploads/2026/02/wolyn-plakat.jpg
END:VEVENT
BEGIN:VEVENT
DTSTART;TZID=Europe/London:20260228T100000
DTEND;TZID=Europe/London:20260313T210000
DTSTAMP:20260420T123500
CREATED:20260223T101628Z
LAST-MODIFIED:20260223T101628Z
UID:11472-1772272800-1773435600@posk.org
SUMMARY:28.03| Wystawa w Galerii POSK: Icons
DESCRIPTION:
URL:https://posk.org/event/28-03-wystawa-w-galerii-posk-icons/
LOCATION:Galeria POSK\, 238-246 King Street\, London\, Hammersmith\, W6 0RF\, United Kingdom
CATEGORIES:Sztuka & Wystawy
ATTACH;FMTTYPE=image/jpeg:https://posk.org/wp-content/uploads/2026/02/gyu-scaled.jpg
END:VEVENT
BEGIN:VEVENT
DTSTART;TZID=Europe/London:20260303T110000
DTEND;TZID=Europe/London:20260331T190000
DTSTAMP:20260420T123500
CREATED:20260312T194857Z
LAST-MODIFIED:20260312T194857Z
UID:11557-1772535600-1774983600@posk.org
SUMMARY:03.03| Marzec w Instytucie Piłsudskiego
DESCRIPTION:W gablotce Instytutu pojawił się już nowy eksponat!Serdecznie zapraszamy do jego obejrzenia.Odwiedźcie nas… czekamy w każdy wtorek i czwartek w godzinach 11:00–19:00Do zobaczenia!
URL:https://posk.org/event/03-03-marzec-w-instytucie-pilsudskiego/
LOCATION:Instytut Piłsudskiego w Londynie
CATEGORIES:Spotkanie
ATTACH;FMTTYPE=image/jpeg:https://posk.org/wp-content/uploads/2026/03/651622491_947381287942553_2834498119419997981_n.jpg
END:VEVENT
BEGIN:VEVENT
DTSTART;TZID=Europe/London:20260312T200000
DTEND;TZID=Europe/London:20260312T210000
DTSTAMP:20260420T123500
CREATED:20260212T100721Z
LAST-MODIFIED:20260212T100721Z
UID:11387-1773345600-1773349200@posk.org
SUMMARY:12.03| Wykład z historii sztuki w j. angielskim
DESCRIPTION:John Singer Sargent: The Private Radical – lecture by Gavin Plumley.John Singer Sargent (1856–1925) was high society’s leading portraitist. Flaunting a consummate technique\, his luxurious canvases mirrored his subjects’ wealth. Yet beneath the dazzling veneer of works such as Madame X\, The Daughters of Edward Darley Boit and Lady Agnew of Lochnaw lurks a much rawer world by far. 12 March 2026 8.00 pmMore info: theartssocietychiswick.org.uk
URL:https://posk.org/event/12-03-wyklad-z-historii-sztuki-w-j-angielskim/
LOCATION:Sala Malinowa
CATEGORIES:Spotkanie
ATTACH;FMTTYPE=image/jpeg:https://posk.org/wp-content/uploads/2026/02/630498343_1570029585122315_5634150716424795091_n.jpg
END:VEVENT
END:VCALENDAR