BEGIN:VCALENDAR
VERSION:2.0
PRODID:-//Polski Ośrodek Społeczno-Kulturalny - ECPv6.15.20//NONSGML v1.0//EN
CALSCALE:GREGORIAN
METHOD:PUBLISH
X-ORIGINAL-URL:https://posk.org
X-WR-CALDESC:Wydarzenia dla Polski Ośrodek Społeczno-Kulturalny
REFRESH-INTERVAL;VALUE=DURATION:PT1H
X-Robots-Tag:noindex
X-PUBLISHED-TTL:PT1H
BEGIN:VTIMEZONE
TZID:Europe/London
BEGIN:DAYLIGHT
TZOFFSETFROM:+0000
TZOFFSETTO:+0100
TZNAME:BST
DTSTART:20250330T010000
END:DAYLIGHT
BEGIN:STANDARD
TZOFFSETFROM:+0100
TZOFFSETTO:+0000
TZNAME:GMT
DTSTART:20251026T010000
END:STANDARD
BEGIN:DAYLIGHT
TZOFFSETFROM:+0000
TZOFFSETTO:+0100
TZNAME:BST
DTSTART:20260329T010000
END:DAYLIGHT
BEGIN:STANDARD
TZOFFSETFROM:+0100
TZOFFSETTO:+0000
TZNAME:GMT
DTSTART:20261025T010000
END:STANDARD
BEGIN:DAYLIGHT
TZOFFSETFROM:+0000
TZOFFSETTO:+0100
TZNAME:BST
DTSTART:20270328T010000
END:DAYLIGHT
BEGIN:STANDARD
TZOFFSETFROM:+0100
TZOFFSETTO:+0000
TZNAME:GMT
DTSTART:20271031T010000
END:STANDARD
END:VTIMEZONE
BEGIN:VEVENT
DTSTART;TZID=Europe/London:20260222T100000
DTEND;TZID=Europe/London:20260415T200000
DTSTAMP:20260424T164737
CREATED:20260220T110145Z
LAST-MODIFIED:20260325T111218Z
UID:11444-1771754400-1776283200@posk.org
SUMMARY:22.03| Wystawa dwujęzyczna: Wołyń. Ofiary\, relacje\, miejsca pamięci
DESCRIPTION:  \nWystawa w Sali Orłów. \nWstęp wolny.
URL:https://posk.org/event/22-03-wystawa-dwujezyczna-wolyn-ofiary-relacje-miejsca-pamieci/
LOCATION:Sala Orłów\, 238-246 King Street\, London\, W6 0RF\, United Kingdom
CATEGORIES:Wydarzenie Biblioteki Polskiej POSK
ATTACH;FMTTYPE=image/jpeg:https://posk.org/wp-content/uploads/2026/02/wolyn-plakat.jpg
END:VEVENT
BEGIN:VEVENT
DTSTART;TZID=Europe/London:20260303T110000
DTEND;TZID=Europe/London:20260331T190000
DTSTAMP:20260424T164737
CREATED:20260312T194857Z
LAST-MODIFIED:20260312T194857Z
UID:11557-1772535600-1774983600@posk.org
SUMMARY:03.03| Marzec w Instytucie Piłsudskiego
DESCRIPTION:W gablotce Instytutu pojawił się już nowy eksponat!Serdecznie zapraszamy do jego obejrzenia.Odwiedźcie nas… czekamy w każdy wtorek i czwartek w godzinach 11:00–19:00Do zobaczenia!
URL:https://posk.org/event/03-03-marzec-w-instytucie-pilsudskiego/
LOCATION:Instytut Piłsudskiego w Londynie
CATEGORIES:Spotkanie
ATTACH;FMTTYPE=image/jpeg:https://posk.org/wp-content/uploads/2026/03/651622491_947381287942553_2834498119419997981_n.jpg
END:VEVENT
BEGIN:VEVENT
DTSTART;TZID=Europe/London:20260321T100000
DTEND;TZID=Europe/London:20260402T210000
DTSTAMP:20260424T164737
CREATED:20260223T100907Z
LAST-MODIFIED:20260223T101250Z
UID:11464-1774087200-1775163600@posk.org
SUMMARY:21.03| Galeria POSK zaprasza na najnowszą wystawę
DESCRIPTION:POSK Gallery: 21 March – 2 April 2026 \nJem „Stone” Panufnik – 'LEGEND OF KAPTAIN KARNIVAL” \n  \nA Musical Vision: art as an inspiration for composition – Wednesday 25 March\, 6.30pm at POSK Gallery \nA fun discussion on visual art and iconography and its role in inspiring music composition\, including work by Sir Andrzej Panufnik.  \nHosted by his children Roxanna and Jem with Chris Scobie and Olga Topol of the British Library.
URL:https://posk.org/event/21-03-galeria-posk/
LOCATION:Galeria POSK\, 238-246 King Street\, London\, Hammersmith\, W6 0RF\, United Kingdom
CATEGORIES:Sztuka & Wystawy
ATTACH;FMTTYPE=image/jpeg:https://posk.org/wp-content/uploads/2026/02/gal.jpg
END:VEVENT
BEGIN:VEVENT
DTSTART;TZID=Europe/London:20260322T110000
DTEND;TZID=Europe/London:20260322T170000
DTSTAMP:20260424T164737
CREATED:20260202T184133Z
LAST-MODIFIED:20260202T184133Z
UID:11267-1774177200-1774198800@posk.org
SUMMARY:22.03| Kiermasz Biblioteki Polskiej POSK
DESCRIPTION:Najbliższy kiermasz Biblioteki Polskiej odbędzie się w niedzielę 22 marca\, w godz. 11:00-17:00. \nSerdecznie zapraszamy!
URL:https://posk.org/event/22-03-kiermasz-biblioteki-polskiej-posk/
LOCATION:POSK\, 238-246 King Street\, London\, London\, W6 0RF\, United Kingdom
CATEGORIES:Spotkanie
ATTACH;FMTTYPE=image/jpeg:https://posk.org/wp-content/uploads/2026/02/KIERMASZ_MARZEC_2026_A3-scaled.jpg
END:VEVENT
BEGIN:VEVENT
DTSTART;TZID=Europe/London:20260322T130000
DTEND;TZID=Europe/London:20260322T160000
DTSTAMP:20260424T164737
CREATED:20260216T113213Z
LAST-MODIFIED:20260216T113213Z
UID:11406-1774184400-1774195200@posk.org
SUMMARY:22.03| Teatr Syrena: Szewczyk Dratewka
DESCRIPTION:
URL:https://posk.org/event/22-03-teatr-syrena-szewczyk-dratewka/
LOCATION:Teatr POSK\, 238-246 King Street\, London\, W6 0RF\, United Kingdom
CATEGORIES:Teatr & Przedstawienia
ATTACH;FMTTYPE=image/jpeg:https://posk.org/wp-content/uploads/2026/02/szew.jpg
END:VEVENT
BEGIN:VEVENT
DTSTART;TZID=Europe/London:20260322T140000
DTEND;TZID=Europe/London:20260322T160000
DTSTAMP:20260424T164737
CREATED:20260220T092510Z
LAST-MODIFIED:20260220T092510Z
UID:11436-1774188000-1774195200@posk.org
SUMMARY:22.03| Warsztaty Wielkanocne
DESCRIPTION:Polski Ośrodek Społeczno-Kulturalny zaprasza na rodzinne Warsztaty Wielkanocne\, które odbędą się 22 marca\, o godz. 14:00 w Sali Szafirowej POSK. \nZapraszamy wszystkich w wieku od 5 do 105 lat na wspólne zdobienie palemek i świątecznych dekoracji przy rozmowach o dawnych i współczesnych tradycjach! \n  \n 
URL:https://posk.org/event/22-03-warsztaty-wielkanocne/
LOCATION:Sala Szafirowa
CATEGORIES:Spotkanie,Warsztat
ATTACH;FMTTYPE=image/jpeg:https://posk.org/wp-content/uploads/2026/02/wiel.jpg
END:VEVENT
BEGIN:VEVENT
DTSTART;TZID=Europe/London:20260322T160000
DTEND;TZID=Europe/London:20260322T180000
DTSTAMP:20260424T164737
CREATED:20260218T115811Z
LAST-MODIFIED:20260312T115812Z
UID:11430-1774195200-1774202400@posk.org
SUMMARY:22.03| Słowiańskie korzenie. Bezpłatne warsztaty
DESCRIPTION:22 marca\, niedziela\, Sala Atrium. \nWstęp wolny!
URL:https://posk.org/event/22-03-slowianskie-korzenie-bezplatne-warsztaty/
LOCATION:Atrium\, 238-246 King Street\, London\, W6 0RF\, United Kingdom
CATEGORIES:Spotkanie
ATTACH;FMTTYPE=image/jpeg:https://posk.org/wp-content/uploads/2026/02/Screenshot_20260220_145253.jpg
END:VEVENT
BEGIN:VEVENT
DTSTART;TZID=Europe/London:20260322T160000
DTEND;TZID=Europe/London:20260322T190000
DTSTAMP:20260424T164737
CREATED:20260216T113330Z
LAST-MODIFIED:20260216T113330Z
UID:11409-1774195200-1774206000@posk.org
SUMMARY:22.03| Teatr Syrena: Szewczyk Dratewka
DESCRIPTION:
URL:https://posk.org/event/22-03-teatr-syrena-szewczyk-dratewka-2/
LOCATION:Teatr POSK\, 238-246 King Street\, London\, W6 0RF\, United Kingdom
CATEGORIES:Teatr & Przedstawienia
ATTACH;FMTTYPE=image/jpeg:https://posk.org/wp-content/uploads/2026/02/szew.jpg
END:VEVENT
END:VCALENDAR